BEGIN:VCALENDAR
VERSION:2.0
PRODID:-//Restore - working for mental health - ECPv6.15.20//NONSGML v1.0//EN
CALSCALE:GREGORIAN
METHOD:PUBLISH
X-ORIGINAL-URL:https://restore.org.uk
X-WR-CALDESC:Events for Restore - working for mental health
REFRESH-INTERVAL;VALUE=DURATION:PT1H
X-Robots-Tag:noindex
X-PUBLISHED-TTL:PT1H
BEGIN:VTIMEZONE
TZID:Europe/London
BEGIN:DAYLIGHT
TZOFFSETFROM:+0000
TZOFFSETTO:+0100
TZNAME:BST
DTSTART:20250330T010000
END:DAYLIGHT
BEGIN:STANDARD
TZOFFSETFROM:+0100
TZOFFSETTO:+0000
TZNAME:GMT
DTSTART:20251026T010000
END:STANDARD
BEGIN:DAYLIGHT
TZOFFSETFROM:+0000
TZOFFSETTO:+0100
TZNAME:BST
DTSTART:20260329T010000
END:DAYLIGHT
BEGIN:STANDARD
TZOFFSETFROM:+0100
TZOFFSETTO:+0000
TZNAME:GMT
DTSTART:20261025T010000
END:STANDARD
BEGIN:DAYLIGHT
TZOFFSETFROM:+0000
TZOFFSETTO:+0100
TZNAME:BST
DTSTART:20270328T010000
END:DAYLIGHT
BEGIN:STANDARD
TZOFFSETFROM:+0100
TZOFFSETTO:+0000
TZNAME:GMT
DTSTART:20271031T010000
END:STANDARD
END:VTIMEZONE
BEGIN:VEVENT
DTSTART;TZID=Europe/London:20260223T103000
DTEND;TZID=Europe/London:20260223T120000
DTSTAMP:20260419T235037
CREATED:20260121T155904Z
LAST-MODIFIED:20260121T155940Z
UID:10000727-1771842600-1771848000@restore.org.uk
SUMMARY:Creative Writing (Part 1)
DESCRIPTION:Our creative writing course provides a chance to think about and develop the use of creative skills to aid recovery.
URL:https://restore.org.uk/events/creative-writing-part-1-4/
LOCATION:Location: Online
CATEGORIES:Learning,ORC Courses
ORGANIZER;CN="Oxfordshire Recovery College":MAILTO:contactorc@restore.org.uk
END:VEVENT
BEGIN:VEVENT
DTSTART;TZID=Europe/London:20260223T130000
DTEND;TZID=Europe/London:20260223T160000
DTSTAMP:20260419T235037
CREATED:20260121T160345Z
LAST-MODIFIED:20260121T160421Z
UID:10000731-1771851600-1771862400@restore.org.uk
SUMMARY:Understanding Anxiety
DESCRIPTION:This course focuses on anxiety\, what it is and how it affects us\, and how we can learn to manage it better. The course explores different types of  anxiety disorders\, how we can understand  anxiety as a survival strategy\, techniques to ground ourselves and reduce worry\,  and where to look for further support.
URL:https://restore.org.uk/events/understanding-anxiety-11/
LOCATION:The Straw Bale\, Restore\, Manzil Way\, Oxford\, Oxfordshire\, OX4 1YH\, United Kingdom
CATEGORIES:Learning,ORC Courses
ORGANIZER;CN="Oxfordshire Recovery College":MAILTO:contactorc@restore.org.uk
END:VEVENT
BEGIN:VEVENT
DTSTART;TZID=Europe/London:20260224T100000
DTEND;TZID=Europe/London:20260224T120000
DTSTAMP:20260419T235037
CREATED:20260121T160617Z
LAST-MODIFIED:20260121T160653Z
UID:10000732-1771927200-1771934400@restore.org.uk
SUMMARY:Creative Responses to Mental Health Histories (Part 1)
DESCRIPTION:(3 Parts In Person) – In these workshops we will look at and discuss historical documents about the life of a person experiencing mental distress in the 17th\, 18th\, or 19th century. We’ll then create artworks prompted by questions about that history\, through sculpture (using air-dry modelling clay)\, painting\, or collage. No previous experience (or artistic talent!) is necessary. These workshops have been developed in collaboration with\, and funded by\, the University of Reading.
URL:https://restore.org.uk/events/creative-responses-to-mental-health-histories-part-1/
LOCATION:The Straw Bale\, Restore\, Manzil Way\, Oxford\, Oxfordshire\, OX4 1YH\, United Kingdom
ORGANIZER;CN="Oxfordshire Recovery College":MAILTO:contactorc@restore.org.uk
END:VEVENT
BEGIN:VEVENT
DTSTART;TZID=Europe/London:20260224T103000
DTEND;TZID=Europe/London:20260224T120000
DTSTAMP:20260419T235037
CREATED:20260121T161137Z
LAST-MODIFIED:20260121T161213Z
UID:10000735-1771929000-1771934400@restore.org.uk
SUMMARY:Loss\, Grief and Wellbeing (Part 1)
DESCRIPTION:This course is designed to provide information and ideas for support for anyone interested in or who has experienced grief or bereavement. It explores the various types of grief we can experience\, and how grief can impact on our lives\, wellbeing\, and mental health. We explore some of the common theories of grief\, share wellbeing tips\, and examine how we may be able to support someone who is experiencing grief. Signposting is provided for further sources of support. We encourage students to think about their own experience of grief and loss\, and how it might affect them during the course. The course is not usually suited to anyone who has experienced a recent\, significant personal loss or bereavement.
URL:https://restore.org.uk/events/loss-grief-and-wellbeing-part-1-4/
LOCATION:Location: Online
CATEGORIES:Learning,ORC Courses
ORGANIZER;CN="Oxfordshire Recovery College":MAILTO:contactorc@restore.org.uk
END:VEVENT
BEGIN:VEVENT
DTSTART;TZID=Europe/London:20260225T100000
DTEND;TZID=Europe/London:20260225T120000
DTSTAMP:20260419T235037
CREATED:20260121T161431Z
LAST-MODIFIED:20260121T161509Z
UID:10000737-1772013600-1772020800@restore.org.uk
SUMMARY:Mindful Photography
DESCRIPTION:In this workshop students have the opportunity to try out some mindful photography and share their responses. Mindful photography uses our own eyes and a camera lens (be it a smartphone or a camera) to help ground us in the present moment by looking more closely at the world around us. It encourages us to look non judgmentally\, and can help change our perspective on ourselves and our environment by harnessing gratitude\, self-compassion and a sense of awe and wonder.
URL:https://restore.org.uk/events/mindful-photography-9/
LOCATION:The Straw Bale\, Restore\, Manzil Way\, Oxford\, Oxfordshire\, OX4 1YH\, United Kingdom
CATEGORIES:Learning,ORC Courses
ORGANIZER;CN="Oxfordshire Recovery College":MAILTO:contactorc@restore.org.uk
END:VEVENT
BEGIN:VEVENT
DTSTART;TZID=Europe/London:20260225T140000
DTEND;TZID=Europe/London:20260225T160000
DTSTAMP:20260419T235037
CREATED:20260121T161852Z
LAST-MODIFIED:20260121T161929Z
UID:10000738-1772028000-1772035200@restore.org.uk
SUMMARY:Introduction to ORC
DESCRIPTION:This course is designed for all new students as part of the enrolment process. The course is designed to explain to students how ORC works\, and to highlight some of the potential benefits of attending our courses. There is an opportunity to explore what ‘recovery’ means to us as individuals\, and to think about what helps recovery. We will also spend some time considering next steps.
URL:https://restore.org.uk/events/introduction-to-orc-28/
LOCATION:Location: Online
CATEGORIES:Learning,ORC Courses
ORGANIZER;CN="Oxfordshire Recovery College":MAILTO:contactorc@restore.org.uk
END:VEVENT
BEGIN:VEVENT
DTSTART;TZID=Europe/London:20260226T100000
DTEND;TZID=Europe/London:20260226T130000
DTSTAMP:20260419T235037
CREATED:20260121T162006Z
LAST-MODIFIED:20260121T162043Z
UID:10000739-1772100000-1772110800@restore.org.uk
SUMMARY:Tackling Stigma and Discrimination
DESCRIPTION:This course explores what stigma and discrimination are and how they may  affect us. The course looks at  actions we can take to challenge social stigma\, discrimination in society and self-stigma\, whilst keeping in mind our own wellbeing.
URL:https://restore.org.uk/events/tackling-stigma-and-discrimination-3/
LOCATION:The Straw Bale\, Restore\, Manzil Way\, Oxford\, Oxfordshire\, OX4 1YH\, United Kingdom
ORGANIZER;CN="Oxfordshire Recovery College":MAILTO:contactorc@restore.org.uk
END:VEVENT
BEGIN:VEVENT
DTSTART;TZID=Europe/London:20260227T100000
DTEND;TZID=Europe/London:20260227T130000
DTSTAMP:20260419T235037
CREATED:20260121T162150Z
LAST-MODIFIED:20260121T162227Z
UID:10000740-1772186400-1772197200@restore.org.uk
SUMMARY:Understanding Anxiety
DESCRIPTION:This course focuses on anxiety\, what it is and how it affects us\, and how we can learn to manage it better. The course explores different types of  anxiety disorders\, how we can understand  anxiety as a survival strategy\, techniques to ground ourselves and reduce worry\,  and where to look for further support.
URL:https://restore.org.uk/events/understanding-anxiety-12/
LOCATION:ORC at Restore Banbury\, 28 Calthorpe Street\, Banbury\, Oxfordshire\, OX16 5EX\, United Kingdom
CATEGORIES:Learning,ORC Courses
ORGANIZER;CN="Oxfordshire Recovery College":MAILTO:contactorc@restore.org.uk
END:VEVENT
END:VCALENDAR