BEGIN:VCALENDAR
VERSION:2.0
PRODID:-//Restore - working for mental health - ECPv6.15.20//NONSGML v1.0//EN
CALSCALE:GREGORIAN
METHOD:PUBLISH
X-WR-CALNAME:Restore - working for mental health
X-ORIGINAL-URL:https://restore.org.uk
X-WR-CALDESC:Events for Restore - working for mental health
REFRESH-INTERVAL;VALUE=DURATION:PT1H
X-Robots-Tag:noindex
X-PUBLISHED-TTL:PT1H
BEGIN:VTIMEZONE
TZID:Europe/London
BEGIN:DAYLIGHT
TZOFFSETFROM:+0000
TZOFFSETTO:+0100
TZNAME:BST
DTSTART:20230326T010000
END:DAYLIGHT
BEGIN:STANDARD
TZOFFSETFROM:+0100
TZOFFSETTO:+0000
TZNAME:GMT
DTSTART:20231029T010000
END:STANDARD
BEGIN:DAYLIGHT
TZOFFSETFROM:+0000
TZOFFSETTO:+0100
TZNAME:BST
DTSTART:20240331T010000
END:DAYLIGHT
BEGIN:STANDARD
TZOFFSETFROM:+0100
TZOFFSETTO:+0000
TZNAME:GMT
DTSTART:20241027T010000
END:STANDARD
BEGIN:DAYLIGHT
TZOFFSETFROM:+0000
TZOFFSETTO:+0100
TZNAME:BST
DTSTART:20250330T010000
END:DAYLIGHT
BEGIN:STANDARD
TZOFFSETFROM:+0100
TZOFFSETTO:+0000
TZNAME:GMT
DTSTART:20251026T010000
END:STANDARD
BEGIN:DAYLIGHT
TZOFFSETFROM:+0000
TZOFFSETTO:+0100
TZNAME:BST
DTSTART:20260329T010000
END:DAYLIGHT
BEGIN:STANDARD
TZOFFSETFROM:+0100
TZOFFSETTO:+0000
TZNAME:GMT
DTSTART:20261025T010000
END:STANDARD
END:VTIMEZONE
BEGIN:VEVENT
DTSTART;TZID=Europe/London:20250131T130000
DTEND;TZID=Europe/London:20250131T160000
DTSTAMP:20260421T024835
CREATED:20250113T105111Z
LAST-MODIFIED:20250113T105114Z
UID:10000305-1738328400-1738339200@restore.org.uk
SUMMARY:Understanding Trauma (Part 2)
DESCRIPTION:Experiencing trauma can significantly impact our mental health\, the way we function as human beings and our resilience to coping with stressful life events. This course looks at the impact of trauma on our brain and bodies and explores how we can learn to ground ourselves in the present and regulate our emotions. We look at trauma diagnoses in Week 2 and life after trauma in Week 3. On this course we share tips and strategies\, but not details of what has happened to us.
URL:https://restore.org.uk/events/understanding-trauma-part-2-3/
LOCATION:The Straw Bale\, Restore\, Manzil Way\, Oxford\, Oxfordshire\, OX4 1YH\, United Kingdom
CATEGORIES:ORC Courses
ORGANIZER;CN="Oxfordshire Recovery College":MAILTO:contactorc@restore.org.uk
END:VEVENT
BEGIN:VEVENT
DTSTART;TZID=Europe/London:20250131T123000
DTEND;TZID=Europe/London:20250131T153000
DTSTAMP:20260421T024835
CREATED:20250113T105224Z
LAST-MODIFIED:20250113T105226Z
UID:10000307-1738326600-1738337400@restore.org.uk
SUMMARY:Thinking about Thinking (Part 2)
DESCRIPTION:This course is an introduction to how we as individuals think about thinking\, and will help students to explore and understand more about this subject. We will identify some common and potentially unhelpful thinking patterns which may impact our mental health negatively\, and with greater understanding explore how we can adapt our thinking to promote our own wellbeing in a self- compassionate way
URL:https://restore.org.uk/events/thinking-about-thinking-part-2-4/
LOCATION:ORC at Restore Banbury\, 28 Calthorpe Street\, Banbury\, Oxfordshire\, OX16 5EX\, United Kingdom
CATEGORIES:ORC Courses
ORGANIZER;CN="Oxfordshire Recovery College":MAILTO:contactorc@restore.org.uk
END:VEVENT
BEGIN:VEVENT
DTSTART;TZID=Europe/London:20250130T190000
DTEND;TZID=Europe/London:20250130T203000
DTSTAMP:20260421T024835
CREATED:20250113T104806Z
LAST-MODIFIED:20250113T104808Z
UID:10000303-1738263600-1738269000@restore.org.uk
SUMMARY:Conscious Doodling (Part 3)
DESCRIPTION:During the Conscious Doodling sessions you are given opportunities to follow short guided exercisesusing simple shapes and patterns\, often inspired by the natural world\, which may help you connect to the body and breath. The sessions are a safe space toexperiment with doodling where there is no right or wrong\, just a focus on experiencing the process.
URL:https://restore.org.uk/events/conscious-doodling-part-3-2/
LOCATION:Location: Online
CATEGORIES:ORC Courses
ORGANIZER;CN="Oxfordshire Recovery College":MAILTO:contactorc@restore.org.uk
END:VEVENT
BEGIN:VEVENT
DTSTART;TZID=Europe/London:20250130T100000
DTEND;TZID=Europe/London:20250130T130000
DTSTAMP:20260421T024835
CREATED:20250113T105002Z
LAST-MODIFIED:20250113T105005Z
UID:10000304-1738231200-1738242000@restore.org.uk
SUMMARY:Understanding Bipolar Disorder
DESCRIPTION:This course aims to increase understanding of Bipolar Disorder including its possible causes and symptoms\, what it might be like to live with it and how we might define it. The course considers factors which help and hinder recovery\, and aims to inspire students that recovery is possible and achievable. It considers the challenges of stigma and ways we might tackle it.
URL:https://restore.org.uk/events/understanding-bipolar-disorder-3/
LOCATION:The Straw Bale\, Restore\, Manzil Way\, Oxford\, Oxfordshire\, OX4 1YH\, United Kingdom
CATEGORIES:ORC Courses
ORGANIZER;CN="Oxfordshire Recovery College":MAILTO:contactorc@restore.org.uk
END:VEVENT
BEGIN:VEVENT
DTSTART;TZID=Europe/London:20250130T100000
DTEND;TZID=Europe/London:20250130T130000
DTSTAMP:20260421T024835
CREATED:20250113T104726Z
LAST-MODIFIED:20250113T104728Z
UID:10000302-1738231200-1738242000@restore.org.uk
SUMMARY:Understanding Personality Disorders (Part 2)
DESCRIPTION:In this course we consider how personality disorders are defined and how they may develop\,as well as exploring the stigma surrounding this diagnosis.  We discuss ways to move forward – both support which may be offered and how people can help themselves. In Part 2\, we discuss some models for understanding human relationships and think about how we can make positive changes in our lives.
URL:https://restore.org.uk/events/understanding-personality-disorders-part-2-2/
LOCATION:ORC at Didcot Civic Hall\, Britwell Road\, Didcot\, Oxfordshire\, OX11 7JN\, United Kingdom
CATEGORIES:ORC Courses
ORGANIZER;CN="Oxfordshire Recovery College":MAILTO:contactorc@restore.org.uk
END:VEVENT
BEGIN:VEVENT
DTSTART;TZID=Europe/London:20250129T140000
DTEND;TZID=Europe/London:20250129T160000
DTSTAMP:20260421T024835
CREATED:20250113T110113Z
LAST-MODIFIED:20250113T110116Z
UID:10000310-1738159200-1738166400@restore.org.uk
SUMMARY:Neurodivergence and Wellbeing (Part 2)
DESCRIPTION:This course looks at how we can define neurodivergence and how it may affect our wellbeing. We introduce various strategies\, and we explore how wellbeing is related to reaching our goals. We explore with each other things which impact neurodivergent individuals and how to support those individuals and those who care and work with them. This course is developed to provide a brief introduction into the extensive topic of neurodivergence.
URL:https://restore.org.uk/events/neurodivergence-and-wellbeing-part-2/
LOCATION:Location: Online
CATEGORIES:ORC Courses
ORGANIZER;CN="Oxfordshire Recovery College":MAILTO:contactorc@restore.org.uk
END:VEVENT
BEGIN:VEVENT
DTSTART;TZID=Europe/London:20250129T130000
DTEND;TZID=Europe/London:20250129T160000
DTSTAMP:20260421T024835
CREATED:20250113T110257Z
LAST-MODIFIED:20250113T110300Z
UID:10000311-1738155600-1738166400@restore.org.uk
SUMMARY:Understanding Anxiety
DESCRIPTION:This course focuses on anxiety\, what it is and how it affects us\, and how we can learn to manage it better. The course explores different types of  anxiety disorders\, how we can understand  anxiety as a survival strategy\, techniques to ground ourselves and reduce worry\,  and where to look for further support.
URL:https://restore.org.uk/events/understanding-anxiety-4/
LOCATION:The Straw Bale\, Restore\, Manzil Way\, Oxford\, Oxfordshire\, OX4 1YH\, United Kingdom
CATEGORIES:ORC Courses
ORGANIZER;CN="Oxfordshire Recovery College":MAILTO:contactorc@restore.org.uk
END:VEVENT
BEGIN:VEVENT
DTSTART;TZID=Europe/London:20250128T103000
DTEND;TZID=Europe/London:20250128T120000
DTSTAMP:20260421T024835
CREATED:20250113T104638Z
LAST-MODIFIED:20250113T104640Z
UID:10000301-1738060200-1738065600@restore.org.uk
SUMMARY:Nurturing Hope (Part 2)
DESCRIPTION:This is a course for anyone keen to strengthen a sense of hope\, whether you feel you are struggling to find hope at the moment\, or if you feel like you have a small amount of hope but would like to increase it. We look at how we can define hope and how we can look for it using our five senses. We introduce the concept of making a hope box. In Week 2\, we explore how hope is related to reaching achievable goals and we share with each other things which inspire us.
URL:https://restore.org.uk/events/nurturing-hope-part-2-4/
LOCATION:Location: Online
CATEGORIES:ORC Courses
ORGANIZER;CN="Oxfordshire Recovery College":MAILTO:contactorc@restore.org.uk
END:VEVENT
BEGIN:VEVENT
DTSTART;TZID=Europe/London:20250127T130000
DTEND;TZID=Europe/London:20250127T160000
DTSTAMP:20260421T024835
CREATED:20250113T104555Z
LAST-MODIFIED:20250113T104558Z
UID:10000300-1737982800-1737993600@restore.org.uk
SUMMARY:Understanding Confidence
DESCRIPTION:Mental ill-health often leads to a loss of confidence\, making it difficult for people to get the most out of their lives. We appreciate that developing or regaining confidence is an important part of many people’s recovery. This course will help you recognise your existing skills\, and consider some practical ways to move forwards with  increased confidence
URL:https://restore.org.uk/events/understanding-confidence-4/
LOCATION:The Straw Bale\, Restore\, Manzil Way\, Oxford\, Oxfordshire\, OX4 1YH\, United Kingdom
CATEGORIES:ORC Courses
ORGANIZER;CN="Oxfordshire Recovery College":MAILTO:contactorc@restore.org.uk
END:VEVENT
BEGIN:VEVENT
DTSTART;TZID=Europe/London:20250127T103000
DTEND;TZID=Europe/London:20250127T120000
DTSTAMP:20260421T024835
CREATED:20250113T104412Z
LAST-MODIFIED:20250113T104415Z
UID:10000299-1737973800-1737979200@restore.org.uk
SUMMARY:Boosting Confidence (Part 2)
DESCRIPTION:Mental ill-health often leads to a loss of confidence\, making it difficult for people to get the most out of their lives. We appreciate that developing or regaining confidence is an important part of many people’s recovery\, This course will help you recognise your existing skills\, and consider some practical ways to move forwards with  increased confidence
URL:https://restore.org.uk/events/boosting-confidence-part-2-3/
LOCATION:Location: Online
CATEGORIES:ORC Courses
ORGANIZER;CN="Oxfordshire Recovery College":MAILTO:contactorc@restore.org.uk
END:VEVENT
BEGIN:VEVENT
DTSTART;TZID=Europe/London:20250124T140000
DTEND;TZID=Europe/London:20250124T153000
DTSTAMP:20260421T024835
CREATED:20250113T104321Z
LAST-MODIFIED:20250113T104325Z
UID:10000298-1737727200-1737732600@restore.org.uk
SUMMARY:Understanding Mental Health (Part 1)
DESCRIPTION:This course explores what is meant by ‘mental health’ and what good mental health looks like. We consider how mental health problems may be diagnosed\, or understood as part of our life experiences. The course explores the meaning of recovery and looks at  support  available on our recovery journey.
URL:https://restore.org.uk/events/understanding-mental-health-part-1-3/
LOCATION:Location: Online
CATEGORIES:ORC Courses
ORGANIZER;CN="Oxfordshire Recovery College":MAILTO:contactorc@restore.org.uk
END:VEVENT
BEGIN:VEVENT
DTSTART;TZID=Europe/London:20250124T130000
DTEND;TZID=Europe/London:20250124T160000
DTSTAMP:20260421T024835
CREATED:20250113T102933Z
LAST-MODIFIED:20250113T102936Z
UID:10000297-1737723600-1737734400@restore.org.uk
SUMMARY:Understanding Trauma (Part 1)
DESCRIPTION:Experiencing trauma can significantly impact our mental health\, the way we function as human beings and our resilience to coping with stressful life events. This course looks at the impact of trauma on our brain and bodies and explores how we can learn to ground ourselves in the present and regulate our emotions. We look at trauma diagnoses in Week 2 and life after trauma in Week 3. On this course we share tips and strategies\, but not details of what has happened to us.
URL:https://restore.org.uk/events/understanding-trauma-part-1-3/
LOCATION:The Straw Bale\, Restore\, Manzil Way\, Oxford\, Oxfordshire\, OX4 1YH\, United Kingdom
CATEGORIES:ORC Courses
ORGANIZER;CN="Oxfordshire Recovery College":MAILTO:contactorc@restore.org.uk
END:VEVENT
BEGIN:VEVENT
DTSTART;TZID=Europe/London:20250123T190000
DTEND;TZID=Europe/London:20250123T203000
DTSTAMP:20260421T024835
CREATED:20250113T102705Z
LAST-MODIFIED:20250113T102708Z
UID:10000296-1737658800-1737664200@restore.org.uk
SUMMARY:Conscious Doodling (Part 2)
DESCRIPTION:During the Conscious Doodling sessions you are given opportunities to follow short guided exercisesusing simple shapes and patterns\, often inspired by the natural world\, which may help you connect to the body and breath. The sessions are a safe space toexperiment with doodling where there is no right or wrong\, just a focus on experiencing the process.
URL:https://restore.org.uk/events/conscious-doodling-part-2-2/
LOCATION:Location: Online
CATEGORIES:ORC Courses
ORGANIZER;CN="Oxfordshire Recovery College":MAILTO:contactorc@restore.org.uk
END:VEVENT
BEGIN:VEVENT
DTSTART;TZID=Europe/London:20250123T100000
DTEND;TZID=Europe/London:20250123T130000
DTSTAMP:20260421T024835
CREATED:20250113T102556Z
LAST-MODIFIED:20250113T102559Z
UID:10000295-1737626400-1737637200@restore.org.uk
SUMMARY:Understanding Personality Disorders (Part 1)
DESCRIPTION:In this course we consider how personality disorders are defined and how they may develop\,as well as exploring the stigma surrounding this diagnosis.  We discuss ways to move forward – both support which may be offered and how people can help themselves. In Part 2\, we discuss some models for understanding human relationships and think about how we can make positive changes in our lives.
URL:https://restore.org.uk/events/understanding-personality-disorders-part-1-3/
LOCATION:ORC at Didcot Civic Hall\, Britwell Road\, Didcot\, Oxfordshire\, OX11 7JN\, United Kingdom
CATEGORIES:ORC Courses
ORGANIZER;CN="Oxfordshire Recovery College":MAILTO:contactorc@restore.org.uk
END:VEVENT
BEGIN:VEVENT
DTSTART;TZID=Europe/London:20250122T140000
DTEND;TZID=Europe/London:20250122T160000
DTSTAMP:20260421T024835
CREATED:20250113T102317Z
LAST-MODIFIED:20250113T102320Z
UID:10000294-1737554400-1737561600@restore.org.uk
SUMMARY:Neurodivergence and Wellbeing (Part 1)
DESCRIPTION:This course looks at how we can define neurodivergence and how it may affect our wellbeing. We introduce various strategies\, and we explore how wellbeing is related to reaching our goals. We explore with each other things which impact neurodivergent individuals and how to support those individuals and those who care and work with them. This course is developed to provide a brief introduction into the extensive topic of neurodivergence.
URL:https://restore.org.uk/events/neurodivergence-and-wellbeing-part-1-2/
LOCATION:Location: Online
CATEGORIES:ORC Courses
ORGANIZER;CN="Oxfordshire Recovery College":MAILTO:contactorc@restore.org.uk
END:VEVENT
BEGIN:VEVENT
DTSTART;TZID=Europe/London:20250122T130000
DTEND;TZID=Europe/London:20250122T160000
DTSTAMP:20260421T024835
CREATED:20250113T102120Z
LAST-MODIFIED:20250113T102123Z
UID:10000293-1737550800-1737561600@restore.org.uk
SUMMARY:Understanding Depression
DESCRIPTION:This course provides a chance to think about what depression is like and how it affects someone’s life\, as well as an understanding of what causes depression and how to respond to it. \n\n\n\nThe course will examine personal experiences to illustrate that depression is not an isolated experience and that it is possible to recover and maintain wellbeing.
URL:https://restore.org.uk/events/understanding-depression-7/
LOCATION:The Straw Bale\, Restore\, Manzil Way\, Oxford\, Oxfordshire\, OX4 1YH\, United Kingdom
CATEGORIES:ORC Courses
ORGANIZER;CN="Oxfordshire Recovery College":MAILTO:contactorc@restore.org.uk
END:VEVENT
BEGIN:VEVENT
DTSTART;TZID=Europe/London:20250121T103000
DTEND;TZID=Europe/London:20250121T120000
DTSTAMP:20260421T024835
CREATED:20250113T101624Z
LAST-MODIFIED:20250113T101626Z
UID:10000291-1737455400-1737460800@restore.org.uk
SUMMARY:Nurturing Hope (Part 1)
DESCRIPTION:This is a course for anyone keen to strengthen a sense of hope\, whether you feel you are struggling to find hope at the moment\, or if you feel like you have a small amount of hope but would like to increase it. We look at how we can define hope and how we can look for it using our five senses. We introduce the concept of making a hope box. In Week 2\, we explore how hope is related to reaching achievable goals and we share with each other things which inspire us.
URL:https://restore.org.uk/events/nurturing-hope-part-1-5/
LOCATION:Location: Online
CATEGORIES:ORC Courses
ORGANIZER;CN="Oxfordshire Recovery College":MAILTO:contactorc@restore.org.uk
END:VEVENT
BEGIN:VEVENT
DTSTART;TZID=Europe/London:20250121T100000
DTEND;TZID=Europe/London:20250121T130000
DTSTAMP:20260421T024835
CREATED:20250113T101933Z
LAST-MODIFIED:20250113T101936Z
UID:10000292-1737453600-1737464400@restore.org.uk
SUMMARY:Structure and Routine for Positive Change (NEW COURSE)
DESCRIPTION:On this course we will discuss how structure and routine help us to feel safe\, create healthy habits and move towards ourpersonal goals. We will explore how to set realistic goals for making positive changes and share lots of strategies to help you create a routine which works for you.
URL:https://restore.org.uk/events/structure-and-routine-for-positive-change-new-course/
LOCATION:The Straw Bale\, Restore\, Manzil Way\, Oxford\, Oxfordshire\, OX4 1YH\, United Kingdom
CATEGORIES:ORC Courses
ORGANIZER;CN="Oxfordshire Recovery College":MAILTO:contactorc@restore.org.uk
END:VEVENT
BEGIN:VEVENT
DTSTART;TZID=Europe/London:20250120T103000
DTEND;TZID=Europe/London:20250120T120000
DTSTAMP:20260421T024835
CREATED:20250113T100753Z
LAST-MODIFIED:20250113T100756Z
UID:10000290-1737369000-1737374400@restore.org.uk
SUMMARY:Boosting Confidence (Part 1)
DESCRIPTION:Mental ill-health often leads to a loss of confidence\, making it difficult for people to get the most out of their lives. We appreciate that developing or regaining confidence is an important part of many people’s recovery\, This course will help you recognise your existing skills\, and consider some practical ways to move forwards with  increased confidence
URL:https://restore.org.uk/events/boosting-confidence-part-1-4/
LOCATION:Location: Online
CATEGORIES:ORC Courses
ORGANIZER;CN="Oxfordshire Recovery College":MAILTO:contactorc@restore.org.uk
END:VEVENT
BEGIN:VEVENT
DTSTART;TZID=Europe/London:20250120T100000
DTEND;TZID=Europe/London:20250120T130000
DTSTAMP:20260421T024835
CREATED:20250113T095623Z
LAST-MODIFIED:20250113T095626Z
UID:10000289-1737367200-1737378000@restore.org.uk
SUMMARY:Mindful Movement with T'ai Chi Chih
DESCRIPTION:This course offers the opportunity to learn some easy T’ai Chi Chih movements as a stress-reduction tool to help in recovery. No previous knowledge or equipment is required and you will be given opportunities to experience the beneficial effects in your own mind and body whilst being guided through movements during the workshop. There will be details of a link to a free online tutorial and furtherpractical classes.
URL:https://restore.org.uk/events/mindful-movement-with-tai-chi-chih-3/
LOCATION:The Straw Bale\, Restore\, Manzil Way\, Oxford\, Oxfordshire\, OX4 1YH\, United Kingdom
CATEGORIES:ORC Courses
ORGANIZER;CN="Oxfordshire Recovery College":MAILTO:contactorc@restore.org.uk
END:VEVENT
BEGIN:VEVENT
DTSTART;TZID=Europe/London:20250117T123000
DTEND;TZID=Europe/London:20250117T153000
DTSTAMP:20260421T024835
CREATED:20250113T094857Z
LAST-MODIFIED:20250113T094859Z
UID:10000288-1737117000-1737127800@restore.org.uk
SUMMARY:Thinking about Thinking (Part 1)
DESCRIPTION:This course is an introduction to how we as individuals think about thinking\, and will help students to explore and understand more about this subject. We will identify some common and potentially unhelpful thinking patterns which may impact our mental health negatively\, and with greater understanding explore how we can adapt our thinking to promote our own wellbeing in a self- compassionate way
URL:https://restore.org.uk/events/thinking-about-thinking-part-1-3/
LOCATION:ORC at Restore Banbury\, 28 Calthorpe Street\, Banbury\, Oxfordshire\, OX16 5EX\, United Kingdom
CATEGORIES:ORC Courses
ORGANIZER;CN="Oxfordshire Recovery College":MAILTO:contactorc@restore.org.uk
END:VEVENT
BEGIN:VEVENT
DTSTART;TZID=Europe/London:20250117T100000
DTEND;TZID=Europe/London:20250117T120000
DTSTAMP:20260421T024835
CREATED:20250113T094544Z
LAST-MODIFIED:20250113T094548Z
UID:10000287-1737108000-1737115200@restore.org.uk
SUMMARY:Mindful Photography
DESCRIPTION:In this workshop students have the opportunity to try out some mindful photography and share their responses. Mindful photography uses our own eyes and a camera lens (be it a smartphone or a camera) to help ground us in the present moment by looking more closely at the world around us. It encourages us to look non judgmentally\, and can help change our perspective on ourselves and our environment by harnessing gratitude\, self-compassion and a sense of awe and wonder.
URL:https://restore.org.uk/events/mindful-photography-4/
LOCATION:The Straw Bale\, Restore\, Manzil Way\, Oxford\, Oxfordshire\, OX4 1YH\, United Kingdom
CATEGORIES:ORC Courses
ORGANIZER;CN="Oxfordshire Recovery College":MAILTO:contactorc@restore.org.uk
END:VEVENT
BEGIN:VEVENT
DTSTART;TZID=Europe/London:20250116T190000
DTEND;TZID=Europe/London:20250116T203000
DTSTAMP:20260421T024835
CREATED:20250113T093322Z
LAST-MODIFIED:20250113T093602Z
UID:10000284-1737054000-1737059400@restore.org.uk
SUMMARY:Conscious Doodling (Part 1)
DESCRIPTION:During the Conscious Doodling sessions you are given opportunities to follow short guided exercisesusing simple shapes and patterns\, often inspired by the natural world\, which may help you connect to the body and breath. The sessions are a safe space toexperiment with doodling where there is no right or wrong\, just a focus on experiencing the process.
URL:https://restore.org.uk/events/conscious-doodling-part-1-2/
LOCATION:Location: Online
CATEGORIES:ORC Courses
ORGANIZER;CN="Oxfordshire Recovery College":MAILTO:contactorc@restore.org.uk
END:VEVENT
BEGIN:VEVENT
DTSTART;TZID=Europe/London:20250115T140000
DTEND;TZID=Europe/London:20250115T160000
DTSTAMP:20260421T024835
CREATED:20250113T092758Z
LAST-MODIFIED:20250205T143301Z
UID:10000283-1736949600-1736956800@restore.org.uk
SUMMARY:Introduction to ORC
DESCRIPTION:This course is designed for all new students as part of the enrolment process. The course is designed to explain to students how ORC works\, and to highlight some of the potential benefits of attending our courses. There is an opportunity to explore what ‘recovery’ means to us as individuals\, and to think about what helps recovery. We will also spend some time considering next steps.
URL:https://restore.org.uk/events/introduction-to-orc/
LOCATION:The Straw Bale\, Restore\, Manzil Way\, Oxford\, Oxfordshire\, OX4 1YH\, United Kingdom
CATEGORIES:Learning,ORC Courses
ORGANIZER;CN="Oxfordshire Recovery College":MAILTO:contactorc@restore.org.uk
END:VEVENT
BEGIN:VEVENT
DTSTART;TZID=Europe/London:20250115T100000
DTEND;TZID=Europe/London:20250115T120000
DTSTAMP:20260421T024835
CREATED:20250113T092245Z
LAST-MODIFIED:20250205T143328Z
UID:10000282-1736935200-1736942400@restore.org.uk
SUMMARY:Introduction to ORC (Online)
DESCRIPTION:This course is designed for all new students as part of the enrolment process. The course is designed to explain to students how ORC works\, and to highlight some of the potential benefits of attending our courses. There is an opportunity to explore what ‘recovery’ means to us as individuals\, and to think about what helps recovery. We will also spend some time considering next steps.
URL:https://restore.org.uk/events/introduction-to-orc-online/
LOCATION:Location: Online
CATEGORIES:Learning,ORC Courses
ORGANIZER;CN="Oxfordshire Recovery College":MAILTO:contactorc@restore.org.uk
END:VEVENT
BEGIN:VEVENT
DTSTART;TZID=Europe/London:20250115T093000
DTEND;TZID=Europe/London:20250115T170000
DTSTAMP:20260421T024835
CREATED:20240917T105008Z
LAST-MODIFIED:20241210T122654Z
UID:10000260-1736933400-1736960400@restore.org.uk
SUMMARY:Mental Health First Aid - 15th & 22nd Jan
DESCRIPTION:Two days\, in person at Restore. This accredited training enables you to become a Mental Health First Aider\, with the ability to recognise the signs of mental ill health\, provide support\, and guidance towards professional help. 
URL:https://restore.org.uk/events/mental-health-first-aid-15th-22nd-jan-2/
LOCATION:Restore’s Training Room\, Manzil Way\, Restore\, Manzil Way\, Oxford\, Oxfordshire\, OX4 1YH\, United Kingdom
CATEGORIES:Learning,Training
ORGANIZER;CN="Training Team":MAILTO:training@restore.org.uk
END:VEVENT
BEGIN:VEVENT
DTSTART;TZID=Europe/London:20241218T140000
DTEND;TZID=Europe/London:20241218T160000
DTSTAMP:20260421T024835
CREATED:20240812T122658Z
LAST-MODIFIED:20240812T122701Z
UID:10000259-1734530400-1734537600@restore.org.uk
SUMMARY:Winter wellbeing Event
DESCRIPTION:At the end of each term we offer an informal  workshop which provides an opportunity to take part in a creative activity and a chance to reflect on the term gone by. These workshops are more informal than other courses and aim to  build on a sense of connection within our ORC community
URL:https://restore.org.uk/events/winter-wellbeing-event-3/
LOCATION:The Straw Bale\, Restore\, Manzil Way\, Oxford\, Oxfordshire\, OX4 1YH\, United Kingdom
CATEGORIES:Learning,ORC Courses
ORGANIZER;CN="Oxfordshire Recovery College":MAILTO:contactorc@restore.org.uk
END:VEVENT
BEGIN:VEVENT
DTSTART;TZID=Europe/London:20241218T100000
DTEND;TZID=Europe/London:20241218T120000
DTSTAMP:20260421T024835
CREATED:20240812T122555Z
LAST-MODIFIED:20240812T122556Z
UID:10000258-1734516000-1734523200@restore.org.uk
SUMMARY:Winter wellbeing Event
DESCRIPTION:At the end of each term we offer an informal  workshop which provides an opportunity to take part in a creative activity and a chance to reflect on the term gone by. These workshops are more informal than other courses and aim to  build on a sense of connection within our ORC community
URL:https://restore.org.uk/events/winter-wellbeing-event-2/
LOCATION:ORC at Didcot Civic Hall\, Britwell Road\, Didcot\, Oxfordshire\, OX11 7JN\, United Kingdom
CATEGORIES:Learning,ORC Courses
ORGANIZER;CN="Oxfordshire Recovery College":MAILTO:contactorc@restore.org.uk
END:VEVENT
BEGIN:VEVENT
DTSTART;TZID=Europe/London:20241217T100000
DTEND;TZID=Europe/London:20241217T120000
DTSTAMP:20260421T024835
CREATED:20240812T122445Z
LAST-MODIFIED:20240812T122448Z
UID:10000257-1734429600-1734436800@restore.org.uk
SUMMARY:Introduction to Oxfordshire Recovery College
DESCRIPTION:Find out all about ORC and  what recovery is.
URL:https://restore.org.uk/events/introduction-to-oxfordshire-recovery-college-10/
LOCATION:Location: Online
CATEGORIES:Learning,ORC Courses
ORGANIZER;CN="Oxfordshire Recovery College":MAILTO:contactorc@restore.org.uk
END:VEVENT
BEGIN:VEVENT
DTSTART;TZID=Europe/London:20241217T100000
DTEND;TZID=Europe/London:20241217T120000
DTSTAMP:20260421T024835
CREATED:20240812T122329Z
LAST-MODIFIED:20240812T122332Z
UID:10000256-1734429600-1734436800@restore.org.uk
SUMMARY:Mindful Photography
DESCRIPTION:In this workshop students have the opportunity to try out some mindful photography and share their responses. Mindful photography uses our own eyes and a camera lens (be it a smartphone or a camera) to help ground us in the present moment by looking more closely at the world around us.
URL:https://restore.org.uk/events/mindful-photography-3/
LOCATION:The Straw Bale\, Restore\, Manzil Way\, Oxford\, Oxfordshire\, OX4 1YH\, United Kingdom
CATEGORIES:Learning,ORC Courses
ORGANIZER;CN="Oxfordshire Recovery College":MAILTO:contactorc@restore.org.uk
END:VEVENT
END:VCALENDAR