BEGIN:VCALENDAR
VERSION:2.0
PRODID:-//Restore - working for mental health - ECPv6.15.20//NONSGML v1.0//EN
CALSCALE:GREGORIAN
METHOD:PUBLISH
X-WR-CALNAME:Restore - working for mental health
X-ORIGINAL-URL:https://restore.org.uk
X-WR-CALDESC:Events for Restore - working for mental health
REFRESH-INTERVAL;VALUE=DURATION:PT1H
X-Robots-Tag:noindex
X-PUBLISHED-TTL:PT1H
BEGIN:VTIMEZONE
TZID:Europe/London
BEGIN:DAYLIGHT
TZOFFSETFROM:+0000
TZOFFSETTO:+0100
TZNAME:BST
DTSTART:20240331T010000
END:DAYLIGHT
BEGIN:STANDARD
TZOFFSETFROM:+0100
TZOFFSETTO:+0000
TZNAME:GMT
DTSTART:20241027T010000
END:STANDARD
BEGIN:DAYLIGHT
TZOFFSETFROM:+0000
TZOFFSETTO:+0100
TZNAME:BST
DTSTART:20250330T010000
END:DAYLIGHT
BEGIN:STANDARD
TZOFFSETFROM:+0100
TZOFFSETTO:+0000
TZNAME:GMT
DTSTART:20251026T010000
END:STANDARD
BEGIN:DAYLIGHT
TZOFFSETFROM:+0000
TZOFFSETTO:+0100
TZNAME:BST
DTSTART:20260329T010000
END:DAYLIGHT
BEGIN:STANDARD
TZOFFSETFROM:+0100
TZOFFSETTO:+0000
TZNAME:GMT
DTSTART:20261025T010000
END:STANDARD
END:VTIMEZONE
BEGIN:VEVENT
DTSTART;TZID=Europe/London:20250313T100000
DTEND;TZID=Europe/London:20250313T130000
DTSTAMP:20260420T185212
CREATED:20250113T145118Z
LAST-MODIFIED:20250205T145725Z
UID:10000350-1741860000-1741870800@restore.org.uk
SUMMARY:Understanding Anxiety
DESCRIPTION:This course focuses on anxiety\, what it is and how it affects us\, and how we can learn to manage it better. The course explores different types of  anxiety disorders\, how we can understand  anxiety as a survival strategy\, techniques to ground ourselves and reduce worry\,  and where to look for further support.
URL:https://restore.org.uk/events/understanding-anxiety-5/
LOCATION:The Straw Bale\, Restore\, Manzil Way\, Oxford\, Oxfordshire\, OX4 1YH\, United Kingdom
CATEGORIES:Learning,ORC Courses
ORGANIZER;CN="Oxfordshire Recovery College":MAILTO:contactorc@restore.org.uk
END:VEVENT
BEGIN:VEVENT
DTSTART;TZID=Europe/London:20250312T140000
DTEND;TZID=Europe/London:20250312T160000
DTSTAMP:20260420T185212
CREATED:20250113T144625Z
LAST-MODIFIED:20250205T145754Z
UID:10000348-1741788000-1741795200@restore.org.uk
SUMMARY:Writing for Self Expression (Part 3)
DESCRIPTION:On this course we will listen to and talk about some poems and pieces of prose\, before trying out some expressive writing of our own. Expressive writing is not creative writing or therapy\, but a form of self-expression which helps a person to think about their life and put their thoughts and feelings into words with often surprising results. It is personal\, freestyle writing that is not constrained by concerns about the ‘end result’ but  fosters personal awareness\, resilience and wellbeing.
URL:https://restore.org.uk/events/writing-for-self-expression-part-3-2/
LOCATION:The Straw Bale\, Restore\, Manzil Way\, Oxford\, Oxfordshire\, OX4 1YH\, United Kingdom
CATEGORIES:Learning,ORC Courses
ORGANIZER;CN="Oxfordshire Recovery College":MAILTO:contactorc@restore.org.uk
END:VEVENT
BEGIN:VEVENT
DTSTART;TZID=Europe/London:20250312T130000
DTEND;TZID=Europe/London:20250312T160000
DTSTAMP:20260420T185212
CREATED:20250113T144525Z
LAST-MODIFIED:20250205T145820Z
UID:10000347-1741784400-1741795200@restore.org.uk
SUMMARY:Journaling for Wellbeing
DESCRIPTION:In this course we discuss how journaling in its widest sense (recording some aspects of our day to day experiences) supports wellbeing by helping us gain perspective on our lives\, notice what’s good and focus on what is meaningful to us. Students will be introduced to both bullet journaling and scrapbook journaling and have the opportunity to experiment with different methods and materials ( which will be provided)  to find a way of journaling which works for them
URL:https://restore.org.uk/events/journaling-for-wellbeing-3/
LOCATION:ORC at Witney Mind\, 65 Moorland Road\, Witney\, Oxfordshire\, OX28 6LS\, United Kingdom
CATEGORIES:Learning,ORC Courses
ORGANIZER;CN="Oxfordshire Recovery College":MAILTO:contactorc@restore.org.uk
END:VEVENT
BEGIN:VEVENT
DTSTART;TZID=Europe/London:20250311T190000
DTEND;TZID=Europe/London:20250311T203000
DTSTAMP:20260420T185212
CREATED:20250113T144354Z
LAST-MODIFIED:20250205T145848Z
UID:10000346-1741719600-1741725000@restore.org.uk
SUMMARY:Thinking about a New Role (Part 1)
DESCRIPTION:This course is suitable for anyone thinking about taking on a new role in the future\, whether it’s starting employment or changing jobs\, starting to volunteer or taking on new responsibilities.  The two- part course focuses on building confidence to take steps forward in a new direction.This is a stand-alone course though other courses in the Employment series may be of interest to students. The course will signpost towards places to get further help and advice\, as well as to additional resources and reading.
URL:https://restore.org.uk/events/thinking-about-a-new-role-part-1-3/
LOCATION:Location: Online
CATEGORIES:Learning,ORC Courses
ORGANIZER;CN="Oxfordshire Recovery College":MAILTO:contactorc@restore.org.uk
END:VEVENT
BEGIN:VEVENT
DTSTART;TZID=Europe/London:20250310T130000
DTEND;TZID=Europe/London:20250310T160000
DTSTAMP:20260420T185212
CREATED:20250113T144102Z
LAST-MODIFIED:20250205T145910Z
UID:10000345-1741611600-1741622400@restore.org.uk
SUMMARY:Drawing for Wellbeing (Part 3)
DESCRIPTION:A six week workshop looking at some of the history and theory behind drawing with demonstrations and lots of practical activitiesinvolved.
URL:https://restore.org.uk/events/drawing-for-wellbeing-part-3/
LOCATION:The Straw Bale\, Restore\, Manzil Way\, Oxford\, Oxfordshire\, OX4 1YH\, United Kingdom
CATEGORIES:Learning,ORC Courses
ORGANIZER;CN="Oxfordshire Recovery College":MAILTO:contactorc@restore.org.uk
END:VEVENT
BEGIN:VEVENT
DTSTART;TZID=Europe/London:20250310T103000
DTEND;TZID=Europe/London:20250310T120000
DTSTAMP:20260420T185212
CREATED:20250113T144017Z
LAST-MODIFIED:20250205T153144Z
UID:10000344-1741602600-1741608000@restore.org.uk
SUMMARY:Telling your Story (Part 1)
DESCRIPTION:This 4-part course will support students to make their own short video story about one aspect of their recovery journey. Telling personal stories benefits our mental health by helping us reflect on and make sense of things that have happened to us. Storytelling also connects us to others and inspires us to cope with new challenges in the future. This course will involve working on how to structure a story and use technology to create a short video. \n\n\n\nPlease note: this course will involve sharing aspects of our personal stories within a group and requires students to have a smartphone/tablet/laptop which they can use for making their video story
URL:https://restore.org.uk/events/telling-your-story-part-1/
LOCATION:Location: Online
CATEGORIES:Learning,ORC Courses
ORGANIZER;CN="Oxfordshire Recovery College":MAILTO:contactorc@restore.org.uk
END:VEVENT
BEGIN:VEVENT
DTSTART;TZID=Europe/London:20250309T140000
DTEND;TZID=Europe/London:20250309T170000
DTSTAMP:20260420T185212
CREATED:20250113T163447Z
LAST-MODIFIED:20250220T171410Z
UID:10000388-1741528800-1741539600@restore.org.uk
SUMMARY:Restore’s Zumba Party
DESCRIPTION:Get ready for the ultimate dance party as Restore brings you a Zumbathon like never before! Join us for a mass participation\, heart-pounding event featuring 17 certified Zumba instructors. It’s not just about breaking a sweat; it’s about breaking down barriers and supporting better mental health for all. \n\n\n\nBack for 2025\, united in support of Restore. This event is open to all abilities for 2 hours of non-stop dance\, laughter\, fitness and good vibes. Doors open from 2pm for stalls and raffle\, with the event commencing at 3pm. Wear exercise gear and bring your energy and smiles. \n\n\n\nBuy your tickets in advance (all online bookings receive a free raffle ticket) or on the door at the event.
URL:https://restore.org.uk/events/zumba2025/
LOCATION:Exeter Hall\, Exeter Hall\, Oxford Rd\, Kidlington\, OX5 1AB\, United Kingdom
CATEGORIES:Events,Fundraising
ATTACH;FMTTYPE=image/png:https://restore.org.uk/wp-content/uploads/2025/01/Get-involved-in-2025-square-graphics-900-x-600-px-1.png
END:VEVENT
BEGIN:VEVENT
DTSTART;TZID=Europe/London:20250307T133000
DTEND;TZID=Europe/London:20250307T163000
DTSTAMP:20260420T185212
CREATED:20250113T143810Z
LAST-MODIFIED:20250205T153216Z
UID:10000343-1741354200-1741365000@restore.org.uk
SUMMARY:Gender\, Sexuality and Mental Health (Part 1)
DESCRIPTION:This course seeks to explore issues around gender identity\, gender expression and sexual orientation\, and how these can impact on our mental health. We will explore themes around developing our sense of identity and look at dealing with stigma and discrimination. The course is suitable for everyone wishing to consider these issues in a supportive group\, however they describe their own identity.
URL:https://restore.org.uk/events/gender-sexuality-and-mental-health-part-1-2/
LOCATION:The Straw Bale\, Restore\, Manzil Way\, Oxford\, Oxfordshire\, OX4 1YH\, United Kingdom
CATEGORIES:Learning,ORC Courses
ORGANIZER;CN="Oxfordshire Recovery College":MAILTO:contactorc@restore.org.uk
END:VEVENT
BEGIN:VEVENT
DTSTART;TZID=Europe/London:20250306T140000
DTEND;TZID=Europe/London:20250306T153000
DTSTAMP:20260420T185212
CREATED:20250113T143559Z
LAST-MODIFIED:20250205T153248Z
UID:10000342-1741269600-1741275000@restore.org.uk
SUMMARY:Wellbeing at Work (Part 1)
DESCRIPTION:This course explores what can support or hinder our wellbeing in the workplace\, and strategies to manage our wellbeing better. This course is suitable for any student thinking about entering or going back into the workplace (voluntary or paid) or returning to work after a period of absence\, or students who are currently in work but considering how to better support their wellbeing. You do not need to feel ready to go back to work soon to benefit from this course.
URL:https://restore.org.uk/events/wellbeing-at-work-part-1-2/
LOCATION:Location: Online
CATEGORIES:Learning,ORC Courses
ORGANIZER;CN="Oxfordshire Recovery College":MAILTO:contactorc@restore.org.uk
END:VEVENT
BEGIN:VEVENT
DTSTART;TZID=Europe/London:20250306T100000
DTEND;TZID=Europe/London:20250306T130000
DTSTAMP:20260420T185212
CREATED:20250113T143405Z
LAST-MODIFIED:20250205T153328Z
UID:10000341-1741255200-1741266000@restore.org.uk
SUMMARY:Understanding Stigma
DESCRIPTION:In this course we explore what stigma means in relation to mental health\, examine the impact that stigma can have on our sense of identity\, and look at ways we can challenge stigma while taking care of ourselves.
URL:https://restore.org.uk/events/understanding-stigma-3/
LOCATION:The Straw Bale\, Restore\, Manzil Way\, Oxford\, Oxfordshire\, OX4 1YH\, United Kingdom
CATEGORIES:Learning,ORC Courses
ORGANIZER;CN="Oxfordshire Recovery College":MAILTO:contactorc@restore.org.uk
END:VEVENT
BEGIN:VEVENT
DTSTART;TZID=Europe/London:20250305T140000
DTEND;TZID=Europe/London:20250305T160000
DTSTAMP:20260420T185212
CREATED:20250113T143137Z
LAST-MODIFIED:20250205T153409Z
UID:10000340-1741183200-1741190400@restore.org.uk
SUMMARY:Writing for Self Expression (Part 2)
DESCRIPTION:On this course we will listen to and talk about some poems and pieces of prose\, before trying out some expressive writing of our own. Expressive writing is not creative writing or therapy\, but a form of self-expression which helps a person to think about their life and put their thoughts and feelings into words with often surprising results. It is personal\, freestyle writing that is not constrained by concerns about the ‘end result’ but  fosters personal awareness\, resilience and wellbeing.
URL:https://restore.org.uk/events/writing-for-self-expression-part-2-2/
LOCATION:The Straw Bale\, Restore\, Manzil Way\, Oxford\, Oxfordshire\, OX4 1YH\, United Kingdom
CATEGORIES:Learning,ORC Courses
ORGANIZER;CN="Oxfordshire Recovery College":MAILTO:contactorc@restore.org.uk
END:VEVENT
BEGIN:VEVENT
DTSTART;TZID=Europe/London:20250305T140000
DTEND;TZID=Europe/London:20250305T160000
DTSTAMP:20260420T185212
CREATED:20250113T142305Z
LAST-MODIFIED:20250205T153444Z
UID:10000338-1741183200-1741190400@restore.org.uk
SUMMARY:Mindful Photography
DESCRIPTION:In this workshop students have the opportunity to try out some mindful photography and share their responses. Mindful photography uses our own eyes and a camera lens (be it a smartphone or a camera) to help ground us in the present moment by looking more closely at the world around us. It encourages us to look non judgmentally\, and can help change our perspective on ourselves and our environment by harnessing gratitude\, self-compassion and a sense of awe and wonder.
URL:https://restore.org.uk/events/mindful-photography-6/
LOCATION:Witney Mind\, Resource Centre\,8 Moorland Road Witney Oxfordshire England OX28 6LF\, 8 Moorland Road Witney\, Oxfordshire\, OX28 6LF\, United Kingdom
CATEGORIES:Learning,ORC Courses
ORGANIZER;CN="Oxfordshire Recovery College":MAILTO:contactorc@restore.org.uk
END:VEVENT
BEGIN:VEVENT
DTSTART;TZID=Europe/London:20250305T103000
DTEND;TZID=Europe/London:20250305T120000
DTSTAMP:20260420T185212
CREATED:20250113T142824Z
LAST-MODIFIED:20250205T153507Z
UID:10000339-1741170600-1741176000@restore.org.uk
SUMMARY:Living with Social Anxiety (Part 2)
DESCRIPTION:Social anxiety is the most common form of anxiety\, and can have a substantial impact on our lives. This course explores what social anxiety is (and isn’t)\, and how it may arise. We explore strategies and tools to help us live better with social anxiety\, plus ways to get more support. This is a welcoming course for anyone who sometimes struggles in social situations.
URL:https://restore.org.uk/events/living-with-social-anxiety-part-2-4/
LOCATION:Location: Online
CATEGORIES:Learning,ORC Courses
ORGANIZER;CN="Oxfordshire Recovery College":MAILTO:contactorc@restore.org.uk
END:VEVENT
BEGIN:VEVENT
DTSTART;TZID=Europe/London:20250304T140000
DTEND;TZID=Europe/London:20250304T160000
DTSTAMP:20260420T185212
CREATED:20250113T141858Z
LAST-MODIFIED:20250205T153535Z
UID:10000337-1741096800-1741104000@restore.org.uk
SUMMARY:Mindful Photography
DESCRIPTION:In this workshop students have the opportunity to try out some mindful photography and share their responses. Mindful photography uses our own eyes and a camera lens (be it a smartphone or a camera) to help ground us in the present moment by looking more closely at the world around us. It encourages us to look non judgmentally\, and can help change our perspective on ourselves and our environment by harnessing gratitude\, self-compassion and a sense of awe and wonder.
URL:https://restore.org.uk/events/mindful-photography-5/
LOCATION:The Straw Bale\, Restore\, Manzil Way\, Oxford\, Oxfordshire\, OX4 1YH\, United Kingdom
CATEGORIES:Learning,ORC Courses
ORGANIZER;CN="Oxfordshire Recovery College":MAILTO:contactorc@restore.org.uk
END:VEVENT
BEGIN:VEVENT
DTSTART;TZID=Europe/London:20250304T130000
DTEND;TZID=Europe/London:20250304T160000
DTSTAMP:20260420T185212
CREATED:20250113T140814Z
LAST-MODIFIED:20250205T153604Z
UID:10000336-1741093200-1741104000@restore.org.uk
SUMMARY:Thinking about Thinking (Part 2)
DESCRIPTION:This course is an introduction to how we as individuals think about thinking\, and will help students to explore and understand more about this subject. We will identify some common and potentially unhelpful thinking patterns which may impact our mental health negatively\, and with greater understanding explore how we can adapt our thinking to promote our own wellbeing in a self- compassionate way
URL:https://restore.org.uk/events/thinking-about-thinking-part-2-5/
LOCATION:ORC at Didcot Civic Hall\, Britwell Road\, Didcot\, Oxfordshire\, OX11 7JN\, United Kingdom
CATEGORIES:Learning,ORC Courses
ORGANIZER;CN="Oxfordshire Recovery College":MAILTO:contactorc@restore.org.uk
END:VEVENT
BEGIN:VEVENT
DTSTART;TZID=Europe/London:20250304T093000
DTEND;TZID=Europe/London:20250304T140000
DTSTAMP:20260420T185212
CREATED:20240917T113354Z
LAST-MODIFIED:20250220T083457Z
UID:10000265-1741080600-1741096800@restore.org.uk
SUMMARY:MHFA - Refresher - 4th Mar
DESCRIPTION:This face to face\, four hour Refresher maintains your accreditation as a Mental Health First Aider\, with the ability to recognise the signs of mental ill health\, provide support\, and guidance towards professional help. 
URL:https://restore.org.uk/events/mhfa-refresher-4th-mar/
LOCATION:Restore’s Training Room\, Manzil Way\, Restore\, Manzil Way\, Oxford\, Oxfordshire\, OX4 1YH\, United Kingdom
CATEGORIES:Learning,Training
ORGANIZER;CN="Training Team":MAILTO:training@restore.org.uk
END:VEVENT
BEGIN:VEVENT
DTSTART;TZID=Europe/London:20250303T130000
DTEND;TZID=Europe/London:20250303T160000
DTSTAMP:20260420T185212
CREATED:20250113T140656Z
LAST-MODIFIED:20250205T153645Z
UID:10000335-1741006800-1741017600@restore.org.uk
SUMMARY:Drawing for Wellbeing (Part 2)
DESCRIPTION:A six week workshop looking at some of the history and theory behind drawing with demonstrations and lots of practical activitiesinvolved.
URL:https://restore.org.uk/events/drawing-for-wellbeing-part-2/
LOCATION:The Straw Bale\, Restore\, Manzil Way\, Oxford\, Oxfordshire\, OX4 1YH\, United Kingdom
CATEGORIES:Learning,ORC Courses
ORGANIZER;CN="Oxfordshire Recovery College":MAILTO:contactorc@restore.org.uk
END:VEVENT
BEGIN:VEVENT
DTSTART;TZID=Europe/London:20250303T103000
DTEND;TZID=Europe/London:20250303T120000
DTSTAMP:20260420T185212
CREATED:20250113T135049Z
LAST-MODIFIED:20250205T154422Z
UID:10000334-1740997800-1741003200@restore.org.uk
SUMMARY:Understanding Mental Health (Part 2)
DESCRIPTION:This course explores what is meant by ‘mental health’ and what good mental health looks like. We consider how mental health problems may be diagnosed\, or understood as part of our life experiences. The course explores the meaning of recovery and looks at  support  available on our recovery journey.
URL:https://restore.org.uk/events/understanding-mental-health-part-2-4/
LOCATION:Location: Online
CATEGORIES:Learning,ORC Courses
ORGANIZER;CN="Oxfordshire Recovery College":MAILTO:contactorc@restore.org.uk
END:VEVENT
BEGIN:VEVENT
DTSTART;TZID=Europe/London:20250228T123000
DTEND;TZID=Europe/London:20250228T153000
DTSTAMP:20260420T185212
CREATED:20250113T115808Z
LAST-MODIFIED:20250205T154512Z
UID:10000333-1740745800-1740756600@restore.org.uk
SUMMARY:Let's Talk Loneliness
DESCRIPTION:This course is suitable for anyone wishing to understand more about loneliness\, and how it can affect us in our day to day lives\,particularly in terms of our mental health. We explore how to cope with a sense of loneliness and manage it the way we want to\, which could include seeking companionship through local charities.
URL:https://restore.org.uk/events/lets-talk-loneliness-5/
LOCATION:ORC at Restore Banbury\, 28 Calthorpe Street\, Banbury\, Oxfordshire\, OX16 5EX\, United Kingdom
CATEGORIES:Learning,ORC Courses
ORGANIZER;CN="Oxfordshire Recovery College":MAILTO:contactorc@restore.org.uk
END:VEVENT
BEGIN:VEVENT
DTSTART;TZID=Europe/London:20250227T100000
DTEND;TZID=Europe/London:20250227T120000
DTSTAMP:20260420T185212
CREATED:20250113T115717Z
LAST-MODIFIED:20250205T143209Z
UID:10000332-1740650400-1740657600@restore.org.uk
SUMMARY:Introduction to ORC
DESCRIPTION:This course is designed for all new students as part of the enrolment process. The course is designed to explain to students how ORC works\, and to highlight some of the potential benefits of attending our courses. There is an opportunity to explore what ‘recovery’ means to us as individuals\, and to think about what helps recovery. We will also spend some time considering next steps.
URL:https://restore.org.uk/events/introduction-to-orc-3/
LOCATION:Location: Online
CATEGORIES:Learning,ORC Courses
ORGANIZER;CN="Oxfordshire Recovery College":MAILTO:contactorc@restore.org.uk
END:VEVENT
BEGIN:VEVENT
DTSTART;TZID=Europe/London:20250226T140000
DTEND;TZID=Europe/London:20250226T160000
DTSTAMP:20260420T185212
CREATED:20250113T113511Z
LAST-MODIFIED:20250205T154552Z
UID:10000330-1740578400-1740585600@restore.org.uk
SUMMARY:Writing for Self Expression (Part 1)
DESCRIPTION:On this course we will listen to and talk about some poems and pieces of prose\, before trying out some expressive writing of our own. Expressive writing is not creative writing or therapy\, but a form of self-expression which helps a person to think about their life and put their thoughts and feelings into words with often surprising results. It is personal\, freestyle writing that is not constrained by concerns about the ‘end result’ but  fosters personal awareness\, resilience and wellbeing.
URL:https://restore.org.uk/events/writing-for-self-expression/
LOCATION:The Straw Bale\, Restore\, Manzil Way\, Oxford\, Oxfordshire\, OX4 1YH\, United Kingdom
CATEGORIES:Learning,ORC Courses
ORGANIZER;CN="Oxfordshire Recovery College":MAILTO:contactorc@restore.org.uk
END:VEVENT
BEGIN:VEVENT
DTSTART;TZID=Europe/London:20250226T103000
DTEND;TZID=Europe/London:20250226T120000
DTSTAMP:20260420T185212
CREATED:20250113T113723Z
LAST-MODIFIED:20250205T154620Z
UID:10000331-1740565800-1740571200@restore.org.uk
SUMMARY:Living with Social Anxiety (Part 1)
DESCRIPTION:Social anxiety is the most common form of anxiety\, and can have a substantial impact on our lives. This course explores what social anxiety is (and isn’t)\, and how it may arise. We explore strategies and tools to help us live better with social anxiety\, plus ways to get more support. This is a welcoming course for anyone who sometimes struggles in social situations.
URL:https://restore.org.uk/events/living-with-social-anxiety-part-1-6/
LOCATION:Location: Online
CATEGORIES:Learning,ORC Courses
ORGANIZER;CN="Oxfordshire Recovery College":MAILTO:contactorc@restore.org.uk
END:VEVENT
BEGIN:VEVENT
DTSTART;TZID=Europe/London:20250225T130000
DTEND;TZID=Europe/London:20250225T160000
DTSTAMP:20260420T185212
CREATED:20250113T113303Z
LAST-MODIFIED:20250205T154645Z
UID:10000329-1740488400-1740499200@restore.org.uk
SUMMARY:Thinking about Thinking (Part 1)
DESCRIPTION:This course is an introduction to how we as individuals think about thinking\, and will help students to explore and understand more about this subject. We will identify some common and potentially unhelpful thinking patterns which may impact our mental health negatively\, and with greater understanding explore how we can adapt our thinking to promote our own wellbeing in a self- compassionate way
URL:https://restore.org.uk/events/thinking-about-thinking-part-1-4/
LOCATION:ORC at Didcot Civic Hall\, Britwell Road\, Didcot\, Oxfordshire\, OX11 7JN\, United Kingdom
CATEGORIES:Learning,ORC Courses
ORGANIZER;CN="Oxfordshire Recovery College":MAILTO:contactorc@restore.org.uk
END:VEVENT
BEGIN:VEVENT
DTSTART;TZID=Europe/London:20250225T130000
DTEND;TZID=Europe/London:20250225T160000
DTSTAMP:20260420T185212
CREATED:20250113T113136Z
LAST-MODIFIED:20250205T154711Z
UID:10000328-1740488400-1740499200@restore.org.uk
SUMMARY:Coping with Self Harm
DESCRIPTION:This course aims to provide a safe space in which students can think about and discuss the different reasons that a person might engage in self harming behaviour – focussing on why\, not how. We look at the prevalence of self harm in the UK and think about what might drive so many people to engage in self harming behaviours. Having identified some of the reasons that people engage in self harming behaviours we think together in detail about possible alternatives.
URL:https://restore.org.uk/events/coping-with-self-harm/
LOCATION:The Straw Bale\, Restore\, Manzil Way\, Oxford\, Oxfordshire\, OX4 1YH\, United Kingdom
CATEGORIES:Learning,ORC Courses
ORGANIZER;CN="Oxfordshire Recovery College":MAILTO:contactorc@restore.org.uk
END:VEVENT
BEGIN:VEVENT
DTSTART;TZID=Europe/London:20250224T130000
DTEND;TZID=Europe/London:20250224T160000
DTSTAMP:20260420T185212
CREATED:20250113T112948Z
LAST-MODIFIED:20250205T154745Z
UID:10000327-1740402000-1740412800@restore.org.uk
SUMMARY:Drawing for Wellbeing (Part 1)
DESCRIPTION:A six week workshop looking at some of the history and theory behind drawing with demonstrations and lots of practical activitiesinvolved.
URL:https://restore.org.uk/events/drawing-for-wellbeing-part-1/
LOCATION:The Straw Bale\, Restore\, Manzil Way\, Oxford\, Oxfordshire\, OX4 1YH\, United Kingdom
CATEGORIES:Learning,ORC Courses
ORGANIZER;CN="Oxfordshire Recovery College":MAILTO:contactorc@restore.org.uk
END:VEVENT
BEGIN:VEVENT
DTSTART;TZID=Europe/London:20250224T103000
DTEND;TZID=Europe/London:20250224T120000
DTSTAMP:20260420T185212
CREATED:20250113T112719Z
LAST-MODIFIED:20250205T154836Z
UID:10000326-1740393000-1740398400@restore.org.uk
SUMMARY:Understanding Mental Health (Part 1)
DESCRIPTION:This course explores what is meant by ‘mental health’ and what good mental health looks like. We consider how mental health problems may be diagnosed\, or understood as part of our life experiences. The course explores the meaning of recovery and looks at  support  available on our recovery journey.
URL:https://restore.org.uk/events/understanding-mental-health-part-1-4/
LOCATION:Location: Online
CATEGORIES:Learning,ORC Courses
ORGANIZER;CN="Oxfordshire Recovery College":MAILTO:contactorc@restore.org.uk
END:VEVENT
BEGIN:VEVENT
DTSTART;TZID=Europe/London:20250218T093000
DTEND;TZID=Europe/London:20250218T130000
DTSTAMP:20260420T185212
CREATED:20240917T113228Z
LAST-MODIFIED:20241210T122523Z
UID:10000263-1739871000-1739883600@restore.org.uk
SUMMARY:Mental Health First Aid - 18th\, 20th\, 25th\, 27th Feb
DESCRIPTION:4x half days\, online. This accredited training enables you to become a Mental Health First Aider\, with the ability to recognise the signs of mental ill health\, provide support and guidance towards professional help. 
URL:https://restore.org.uk/events/mental-health-first-aid-18th-20th-25th-27th-feb/
LOCATION:Location: Online
CATEGORIES:Learning,Training
ORGANIZER;CN="Training Team":MAILTO:training@restore.org.uk
END:VEVENT
BEGIN:VEVENT
DTSTART;TZID=Europe/London:20250214T103000
DTEND;TZID=Europe/London:20250214T120000
DTSTAMP:20260420T185212
CREATED:20250113T112338Z
LAST-MODIFIED:20250205T154900Z
UID:10000325-1739529000-1739534400@restore.org.uk
SUMMARY:Introduction to Mindfulness (Part 2)
DESCRIPTION:This course gives students an overview and a felt experience of the core principles of mindfulness – the practice of bringing awareness to our present moment experience with kindness rather than judgement. We explore the proven benefits of mindfulness\, as well as advice about when it may not be so useful.This is an introductory course which offers  tips for mindfulness in everyday life\,  as well as signposting information if anyone wants to learn more.
URL:https://restore.org.uk/events/introduction-to-mindfulness-part-2-3/
LOCATION:Location: Online
CATEGORIES:Learning,ORC Courses
ORGANIZER;CN="Oxfordshire Recovery College":MAILTO:contactorc@restore.org.uk
END:VEVENT
BEGIN:VEVENT
DTSTART;TZID=Europe/London:20250213T103000
DTEND;TZID=Europe/London:20250213T120000
DTSTAMP:20260420T185212
CREATED:20250205T155008Z
LAST-MODIFIED:20250205T155011Z
UID:10000373-1739442600-1739448000@restore.org.uk
SUMMARY:Coping with Stress and Anxiety (Part 2)
DESCRIPTION:This course aims to increase understanding about anxiety and stress and how to manage it better. We work together to describe what stress and anxiety is and explore what our shared and unique reactions to it can be. We focus on identifying and testing out appropriate tools for coping with stress and anxiety. We explore the concepts of re-framing and affirmations and try out some grounding exercises.
URL:https://restore.org.uk/events/coping-with-stress-and-anxiety-part-2-4/
LOCATION:Location: Online
CATEGORIES:Learning,ORC Courses
ORGANIZER;CN="Oxfordshire Recovery College":MAILTO:contactorc@restore.org.uk
END:VEVENT
BEGIN:VEVENT
DTSTART;TZID=Europe/London:20250212T130000
DTEND;TZID=Europe/London:20250212T160000
DTSTAMP:20260420T185212
CREATED:20250113T112056Z
LAST-MODIFIED:20250205T155116Z
UID:10000323-1739365200-1739376000@restore.org.uk
SUMMARY:Understanding Psychosis
DESCRIPTION:This course aims to increase understanding of what it can be like to experience psychosis\, what might cause it and how it can be defined. The course considers factors which help and hinder recovery\, and aims to inspire students with hope that recovery is possible and achievable.
URL:https://restore.org.uk/events/understanding-psychosis-4/
LOCATION:The Straw Bale\, Restore\, Manzil Way\, Oxford\, Oxfordshire\, OX4 1YH\, United Kingdom
CATEGORIES:Learning,ORC Courses
ORGANIZER;CN="Oxfordshire Recovery College":MAILTO:contactorc@restore.org.uk
END:VEVENT
END:VCALENDAR