BEGIN:VCALENDAR
VERSION:2.0
PRODID:-//Restore - working for mental health - ECPv6.15.20//NONSGML v1.0//EN
CALSCALE:GREGORIAN
METHOD:PUBLISH
X-WR-CALNAME:Restore - working for mental health
X-ORIGINAL-URL:https://restore.org.uk
X-WR-CALDESC:Events for Restore - working for mental health
REFRESH-INTERVAL;VALUE=DURATION:PT1H
X-Robots-Tag:noindex
X-PUBLISHED-TTL:PT1H
BEGIN:VTIMEZONE
TZID:Europe/London
BEGIN:DAYLIGHT
TZOFFSETFROM:+0000
TZOFFSETTO:+0100
TZNAME:BST
DTSTART:20230326T010000
END:DAYLIGHT
BEGIN:STANDARD
TZOFFSETFROM:+0100
TZOFFSETTO:+0000
TZNAME:GMT
DTSTART:20231029T010000
END:STANDARD
BEGIN:DAYLIGHT
TZOFFSETFROM:+0000
TZOFFSETTO:+0100
TZNAME:BST
DTSTART:20240331T010000
END:DAYLIGHT
BEGIN:STANDARD
TZOFFSETFROM:+0100
TZOFFSETTO:+0000
TZNAME:GMT
DTSTART:20241027T010000
END:STANDARD
BEGIN:DAYLIGHT
TZOFFSETFROM:+0000
TZOFFSETTO:+0100
TZNAME:BST
DTSTART:20250330T010000
END:DAYLIGHT
BEGIN:STANDARD
TZOFFSETFROM:+0100
TZOFFSETTO:+0000
TZNAME:GMT
DTSTART:20251026T010000
END:STANDARD
END:VTIMEZONE
BEGIN:VEVENT
DTSTART;TZID=Europe/London:20241002T093000
DTEND;TZID=Europe/London:20241002T163000
DTSTAMP:20260421T065152
CREATED:20240612T120506Z
LAST-MODIFIED:20240612T120510Z
UID:10000101-1727861400-1727886600@restore.org.uk
SUMMARY:Mental Health First Aid - 2nd & 9th Oct
DESCRIPTION:Two days\, in person at Restore. This accredited training enables you to become a Mental Health First Aider\, with the ability to recognise the signs of mental ill health\, provide support\, and guidance towards professional help. 
URL:https://restore.org.uk/events/mental-health-first-aid-2nd-9th-oct/
LOCATION:Restore’s Training Room\, Manzil Way\, Restore\, Manzil Way\, Oxford\, Oxfordshire\, OX4 1YH\, United Kingdom
CATEGORIES:Learning,Training
ORGANIZER;CN="Training Team":MAILTO:training@restore.org.uk
END:VEVENT
BEGIN:VEVENT
DTSTART;TZID=Europe/London:20241002T100000
DTEND;TZID=Europe/London:20241002T120000
DTSTAMP:20260421T065152
CREATED:20240801T091017Z
LAST-MODIFIED:20240801T091018Z
UID:10000165-1727863200-1727870400@restore.org.uk
SUMMARY:Introduction to Oxfordshire Recovery College
DESCRIPTION:Find out all about ORC and  what recovery is.
URL:https://restore.org.uk/events/introduction-to-oxfordshire-recovery-college-4/
LOCATION:Location: Online
CATEGORIES:Learning,ORC Courses
ORGANIZER;CN="Oxfordshire Recovery College":MAILTO:contactorc@restore.org.uk
END:VEVENT
BEGIN:VEVENT
DTSTART;TZID=Europe/London:20241002T100000
DTEND;TZID=Europe/London:20241002T130000
DTSTAMP:20260421T065152
CREATED:20240801T090606Z
LAST-MODIFIED:20240801T090610Z
UID:10000162-1727863200-1727874000@restore.org.uk
SUMMARY:Mindful Movement with T'ai Chi Chih
DESCRIPTION:This course offers the opportunity to learn some easy T’ai Chi Chih movements as a stress-reduction tool to help in recovery. No previous knowledge or equipment is required.
URL:https://restore.org.uk/events/mindful-movement-with-tai-chi-chih/
LOCATION:The Straw Bale\, Restore\, Manzil Way\, Oxford\, Oxfordshire\, OX4 1YH\, United Kingdom
CATEGORIES:Learning,ORC Courses
ORGANIZER;CN="Oxfordshire Recovery College":MAILTO:contactorc@restore.org.uk
END:VEVENT
BEGIN:VEVENT
DTSTART;TZID=Europe/London:20241002T103000
DTEND;TZID=Europe/London:20241002T120000
DTSTAMP:20260421T065152
CREATED:20240801T090758Z
LAST-MODIFIED:20240801T090801Z
UID:10000163-1727865000-1727870400@restore.org.uk
SUMMARY:Loss\, Grief and Wellbeing(Part 1)
DESCRIPTION:This course is designed to provide information and ideas for support for anyone interested in or who has experienced grief or bereavement. It explores the various types of grief we can experience\, and how grief can impact on our lives\, wellbeing\, and mental health. We explore some of the common theories of grief\, share wellbeing tips\, and examine how we may be able to support someone who is experiencing grief. Signposting is provided for further sources of support. \n\n\n\nWe encourage students to think about their own experience of grief and loss\, and how it might affect them during the course. The course is not usually suited to anyone who has experienced a recent\, significant personal loss or bereavement.
URL:https://restore.org.uk/events/loss-grief-and-wellbeingpart-1/
LOCATION:Location: Online
CATEGORIES:Learning,ORC Courses
ORGANIZER;CN="Oxfordshire Recovery College":MAILTO:contactorc@restore.org.uk
END:VEVENT
BEGIN:VEVENT
DTSTART;TZID=Europe/London:20241003T100000
DTEND;TZID=Europe/London:20241003T130000
DTSTAMP:20260421T065152
CREATED:20240801T091310Z
LAST-MODIFIED:20240801T091313Z
UID:10000166-1727949600-1727960400@restore.org.uk
SUMMARY:Let's Talk Loneliness
DESCRIPTION:This course is suitable for anyone wishing to understand more about loneliness\, and how it can affect us in our day to day lives\,particularly in terms of our mental health.
URL:https://restore.org.uk/events/lets-talk-loneliness-2/
LOCATION:The Straw Bale\, Restore\, Manzil Way\, Oxford\, Oxfordshire\, OX4 1YH\, United Kingdom
CATEGORIES:Learning,ORC Courses
ORGANIZER;CN="Oxfordshire Recovery College":MAILTO:contactorc@restore.org.uk
END:VEVENT
BEGIN:VEVENT
DTSTART;TZID=Europe/London:20241003T190000
DTEND;TZID=Europe/London:20241003T203000
DTSTAMP:20260421T065152
CREATED:20240730T150220Z
LAST-MODIFIED:20240730T150223Z
UID:10000146-1727982000-1727987400@restore.org.uk
SUMMARY:Conscious Doodling (Part 3)
DESCRIPTION:During the Conscious Doodling sessions you are given opportunities to follow short guided exercises using simple shapes and patterns\, often inspired by the natural world\, which may help you connect to the body and breath. The sessions are a safe space to experiment with doodling where there is no right or wrong\, just a focus on experiencing the process.
URL:https://restore.org.uk/events/conscious-doodling-part-3/
LOCATION:Location: Online
CATEGORIES:Learning,ORC Courses
ORGANIZER;CN="Oxfordshire Recovery College":MAILTO:contactorc@restore.org.uk
END:VEVENT
BEGIN:VEVENT
DTSTART;TZID=Europe/London:20241004T103000
DTEND;TZID=Europe/London:20241004T120000
DTSTAMP:20260421T065152
CREATED:20240730T151256Z
LAST-MODIFIED:20240730T151300Z
UID:10000152-1728037800-1728043200@restore.org.uk
SUMMARY:Nurturing Hope (Part 2)
DESCRIPTION:This is a course for anyone keen to strengthen a sense of hope\, whether you feel you are struggling to find hope at the moment\, or if you feel like you have a small amount of hope but would like to increase it
URL:https://restore.org.uk/events/nurturing-hope-part-2-2/
LOCATION:Location: Online
CATEGORIES:Learning,ORC Courses
ORGANIZER;CN="Oxfordshire Recovery College":MAILTO:contactorc@restore.org.uk
END:VEVENT
BEGIN:VEVENT
DTSTART;TZID=Europe/London:20241007T103000
DTEND;TZID=Europe/London:20241007T120000
DTSTAMP:20260421T065152
CREATED:20240801T091409Z
LAST-MODIFIED:20240801T091413Z
UID:10000167-1728297000-1728302400@restore.org.uk
SUMMARY:Creative Writing (Part 2)
DESCRIPTION:Our creative writing course provides a chance to think about and develop the use of creative skills to aid recovery.
URL:https://restore.org.uk/events/creative-writing-part-2/
LOCATION:Location: Online
CATEGORIES:Learning,ORC Courses
ORGANIZER;CN="Oxfordshire Recovery College":MAILTO:contactorc@restore.org.uk
END:VEVENT
BEGIN:VEVENT
DTSTART;TZID=Europe/London:20241007T130000
DTEND;TZID=Europe/London:20241007T160000
DTSTAMP:20260421T065152
CREATED:20240801T094504Z
LAST-MODIFIED:20240801T094507Z
UID:10000170-1728306000-1728316800@restore.org.uk
SUMMARY:Neurodivergence and Wellbeing (Part 1)
DESCRIPTION:This course looks at how we can define neurodivergence and how it may affect our wellbeing. We introduce various strategies\, and we explore how wellbeing is related to reaching our goals
URL:https://restore.org.uk/events/neurodivergence-and-wellbeing-part-1/
LOCATION:The Straw Bale\, Restore\, Manzil Way\, Oxford\, Oxfordshire\, OX4 1YH\, United Kingdom
CATEGORIES:Learning,ORC Courses
ORGANIZER;CN="Oxfordshire Recovery College":MAILTO:contactorc@restore.org.uk
END:VEVENT
BEGIN:VEVENT
DTSTART;TZID=Europe/London:20241008T103000
DTEND;TZID=Europe/London:20241008T123000
DTSTAMP:20260421T065152
CREATED:20240801T100348Z
LAST-MODIFIED:20240801T100352Z
UID:10000171-1728383400-1728390600@restore.org.uk
SUMMARY:Thinking about Thinking (Part 1)
DESCRIPTION:This course is an introduction to how we as individuals think about thinking\, and will help students to explore and understand more about this subject.
URL:https://restore.org.uk/events/thinking-about-thinking-part-1-2/
LOCATION:Location: Online
CATEGORIES:Learning,ORC Courses
ORGANIZER;CN="Oxfordshire Recovery College":MAILTO:contactorc@restore.org.uk
END:VEVENT
BEGIN:VEVENT
DTSTART;TZID=Europe/London:20241009T103000
DTEND;TZID=Europe/London:20241009T120000
DTSTAMP:20260421T065152
CREATED:20240801T090846Z
LAST-MODIFIED:20240801T090849Z
UID:10000164-1728469800-1728475200@restore.org.uk
SUMMARY:Loss\, Grief and Wellbeing(Part 2)
DESCRIPTION:This course is designed to provide information and ideas for support for anyone interested in or who has experienced grief or bereavement. It explores the various types of grief we can experience\, and how grief can impact on our lives\, wellbeing\, and mental health. We explore some of the common theories of grief\, share wellbeing tips\, and examine how we may be able to support someone who is experiencing grief. Signposting is provided for further sources of support. \n\n\n\nWe encourage students to think about their own experience of grief and loss\, and how it might affect them during the course. The course is not usually suited to anyone who has experienced a recent\, significant personal loss or bereavement.
URL:https://restore.org.uk/events/loss-grief-and-wellbeingpart-2/
LOCATION:Location: Online
CATEGORIES:Learning,ORC Courses
ORGANIZER;CN="Oxfordshire Recovery College":MAILTO:contactorc@restore.org.uk
END:VEVENT
BEGIN:VEVENT
DTSTART;TZID=Europe/London:20241009T190000
DTEND;TZID=Europe/London:20241009T203000
DTSTAMP:20260421T065152
CREATED:20240801T100617Z
LAST-MODIFIED:20240801T100620Z
UID:10000172-1728500400-1728505800@restore.org.uk
SUMMARY:Wellbeing at Work (Part 1)
DESCRIPTION:This course explores what can support or hinder our wellbeing in the workplace\, and strategies to manage our wellbeing better.
URL:https://restore.org.uk/events/wellbeing-at-work-part-1/
CATEGORIES:Learning,ORC Courses
ORGANIZER;CN="Oxfordshire Recovery College":MAILTO:contactorc@restore.org.uk
END:VEVENT
BEGIN:VEVENT
DTSTART;TZID=Europe/London:20241010T100000
DTEND;TZID=Europe/London:20241010T130000
DTSTAMP:20260421T065152
CREATED:20240801T100819Z
LAST-MODIFIED:20240801T100822Z
UID:10000173-1728554400-1728565200@restore.org.uk
SUMMARY:Understanding Self Harm
DESCRIPTION:This course aims to provide a safe space in which students can think about and discuss the different reasons that a person might engage in self harming behaviour – focussing on why\, not how.
URL:https://restore.org.uk/events/understanding-self-harm/
LOCATION:The Straw Bale\, Restore\, Manzil Way\, Oxford\, Oxfordshire\, OX4 1YH\, United Kingdom
CATEGORIES:Learning,ORC Courses
ORGANIZER;CN="Oxfordshire Recovery College":MAILTO:contactorc@restore.org.uk
END:VEVENT
BEGIN:VEVENT
DTSTART;TZID=Europe/London:20241010T140000
DTEND;TZID=Europe/London:20241010T153000
DTSTAMP:20260421T065152
CREATED:20240801T101054Z
LAST-MODIFIED:20240801T101057Z
UID:10000174-1728568800-1728574200@restore.org.uk
SUMMARY:Healthy Sleep (Part 1)
DESCRIPTION:This course explores what healthy sleep is and offers some positive tips for improving sleep.
URL:https://restore.org.uk/events/healthy-sleep-part-1-2/
LOCATION:Location: Online
CATEGORIES:Learning,ORC Courses
ORGANIZER;CN="Oxfordshire Recovery College":MAILTO:contactorc@restore.org.uk
END:VEVENT
BEGIN:VEVENT
DTSTART;TZID=Europe/London:20241010T140000
DTEND;TZID=Europe/London:20241010T160000
DTSTAMP:20260421T065152
CREATED:20240801T101204Z
LAST-MODIFIED:20240801T101207Z
UID:10000175-1728568800-1728576000@restore.org.uk
SUMMARY:Introduction to Oxfordshire Recovery College
DESCRIPTION:Find out all about ORC and  what recovery is.
URL:https://restore.org.uk/events/introduction-to-oxfordshire-recovery-college-5/
LOCATION:The Straw Bale\, Restore\, Manzil Way\, Oxford\, Oxfordshire\, OX4 1YH\, United Kingdom
CATEGORIES:Learning,ORC Courses
ORGANIZER;CN="Oxfordshire Recovery College":MAILTO:contactorc@restore.org.uk
END:VEVENT
BEGIN:VEVENT
DTSTART;TZID=Europe/London:20241011T123000
DTEND;TZID=Europe/London:20241011T153000
DTSTAMP:20260421T065152
CREATED:20240801T101333Z
LAST-MODIFIED:20240801T101336Z
UID:10000176-1728649800-1728660600@restore.org.uk
SUMMARY:Relationships and Mental Health (Part 1)
DESCRIPTION:
URL:https://restore.org.uk/events/relationships-and-mental-health-part-1-2/
LOCATION:ORC at Restore Banbury\, 28 Calthorpe Street\, Banbury\, Oxfordshire\, OX16 5EX\, United Kingdom
CATEGORIES:Learning,ORC Courses
ORGANIZER;CN="Oxfordshire Recovery College":MAILTO:contactorc@restore.org.uk
END:VEVENT
BEGIN:VEVENT
DTSTART;TZID=Europe/London:20241011T130000
DTEND;TZID=Europe/London:20241011T160000
DTSTAMP:20260421T065152
CREATED:20240801T101632Z
LAST-MODIFIED:20240801T101635Z
UID:10000177-1728651600-1728662400@restore.org.uk
SUMMARY:Understanding Psychosis
DESCRIPTION:This course aims to increase understanding of what it can be like to experience psychosis\, what might cause it and how it can be defined.
URL:https://restore.org.uk/events/understanding-psychosis-2/
LOCATION:The Straw Bale\, Restore\, Manzil Way\, Oxford\, Oxfordshire\, OX4 1YH\, United Kingdom
CATEGORIES:Learning,ORC Courses
ORGANIZER;CN="Oxfordshire Recovery College":MAILTO:contactorc@restore.org.uk
END:VEVENT
BEGIN:VEVENT
DTSTART;TZID=Europe/London:20241014T103000
DTEND;TZID=Europe/London:20241014T120000
DTSTAMP:20260421T065152
CREATED:20240801T091710Z
LAST-MODIFIED:20240801T091714Z
UID:10000168-1728901800-1728907200@restore.org.uk
SUMMARY:Creative Writing (Part 3)
DESCRIPTION:Our creative writing course provides a chance to think about and develop the use of creative skills to aid recovery.
URL:https://restore.org.uk/events/creative-writing-part-3/
LOCATION:Location: Online
CATEGORIES:Learning,ORC Courses
ORGANIZER;CN="Oxfordshire Recovery College":MAILTO:contactorc@restore.org.uk
END:VEVENT
BEGIN:VEVENT
DTSTART;TZID=Europe/London:20241014T130000
DTEND;TZID=Europe/London:20241014T160000
DTSTAMP:20260421T065152
CREATED:20240801T101731Z
LAST-MODIFIED:20240801T101835Z
UID:10000178-1728910800-1728921600@restore.org.uk
SUMMARY:Neurodivergence and Wellbeing(Part 2)
DESCRIPTION:This course looks at how we can define neurodivergence and how it may affect our wellbeing. We introduce various strategies\, and we explore how wellbeing is related to reaching our goals
URL:https://restore.org.uk/events/neurodivergence-and-wellbeing-part/
LOCATION:The Straw Bale\, Restore\, Manzil Way\, Oxford\, Oxfordshire\, OX4 1YH\, United Kingdom
CATEGORIES:Learning,ORC Courses
ORGANIZER;CN="Oxfordshire Recovery College":MAILTO:contactorc@restore.org.uk
END:VEVENT
BEGIN:VEVENT
DTSTART;TZID=Europe/London:20241015T103000
DTEND;TZID=Europe/London:20241015T123000
DTSTAMP:20260421T065152
CREATED:20240801T101916Z
LAST-MODIFIED:20240801T101917Z
UID:10000179-1728988200-1728995400@restore.org.uk
SUMMARY:Thinking about Thinking (Part 2)
DESCRIPTION:This course is an introduction to how we as individuals think about thinking\, and will help students to explore and understand more about this subject.
URL:https://restore.org.uk/events/thinking-about-thinking-part-2-2/
LOCATION:Location: Online
CATEGORIES:Learning,ORC Courses
ORGANIZER;CN="Oxfordshire Recovery College":MAILTO:contactorc@restore.org.uk
END:VEVENT
BEGIN:VEVENT
DTSTART;TZID=Europe/London:20241015T140000
DTEND;TZID=Europe/London:20241015T153000
DTSTAMP:20260421T065152
CREATED:20240801T102112Z
LAST-MODIFIED:20240801T102114Z
UID:10000180-1729000800-1729006200@restore.org.uk
SUMMARY:Introduction to Mindfulness (Part 1)
DESCRIPTION:This course gives students an overview and a felt experience of the core principles of mindfulness – the practice of bringing awareness to our present moment experience with kindness rather than judgement.
URL:https://restore.org.uk/events/introduction-to-mindfulness-part-1-3/
LOCATION:Location: Online
CATEGORIES:Learning,ORC Courses
ORGANIZER;CN="Oxfordshire Recovery College":MAILTO:contactorc@restore.org.uk
END:VEVENT
BEGIN:VEVENT
DTSTART;TZID=Europe/London:20241016T093000
DTEND;TZID=Europe/London:20241016T123000
DTSTAMP:20260421T065152
CREATED:20240612T120656Z
LAST-MODIFIED:20240612T122717Z
UID:10000102-1729071000-1729081800@restore.org.uk
SUMMARY:Mental Health First Aid - 16th\, 18th\, 23rd\, 25th Oct
DESCRIPTION:4x half days\, online. This accredited training enables you to become a Mental Health First Aider\, with the ability to recognise the signs of mental ill health\, provide support and guidance towards professional help. 
URL:https://restore.org.uk/events/mental-health-first-aid-16th-18th-23rd-25th-oct/
LOCATION:Location: Online
CATEGORIES:Learning,Training
ORGANIZER;CN="Training Team":MAILTO:training@restore.org.uk
END:VEVENT
BEGIN:VEVENT
DTSTART;TZID=Europe/London:20241016T100000
DTEND;TZID=Europe/London:20241016T130000
DTSTAMP:20260421T065152
CREATED:20240801T103009Z
LAST-MODIFIED:20240801T103013Z
UID:10000181-1729072800-1729083600@restore.org.uk
SUMMARY:Introduction to Mindfulness
DESCRIPTION:This course gives students an overview and a felt experience of the core principles of mindfulness – the practice of bringing awareness to our present moment experience with kindness rather than judgement.
URL:https://restore.org.uk/events/introduction-to-mindfulness-2/
LOCATION:ORC at Didcot Civic Hall\, Britwell Road\, Didcot\, Oxfordshire\, OX11 7JN\, United Kingdom
CATEGORIES:Learning,ORC Courses
ORGANIZER;CN="Oxfordshire Recovery College":MAILTO:contactorc@restore.org.uk
END:VEVENT
BEGIN:VEVENT
DTSTART;TZID=Europe/London:20241016T190000
DTEND;TZID=Europe/London:20241016T203000
DTSTAMP:20260421T065152
CREATED:20240801T103118Z
LAST-MODIFIED:20240801T103121Z
UID:10000182-1729105200-1729110600@restore.org.uk
SUMMARY:Wellbeing at Work (Part 2)
DESCRIPTION:This course explores what can support or hinder our wellbeing in the workplace\, and strategies to manage our wellbeing better.
URL:https://restore.org.uk/events/wellbeing-at-work-part-2/
CATEGORIES:Learning,ORC Courses
ORGANIZER;CN="Oxfordshire Recovery College":MAILTO:contactorc@restore.org.uk
END:VEVENT
BEGIN:VEVENT
DTSTART;TZID=Europe/London:20241017T130000
DTEND;TZID=Europe/London:20241017T160000
DTSTAMP:20260421T065152
CREATED:20240801T103340Z
LAST-MODIFIED:20240801T103343Z
UID:10000183-1729170000-1729180800@restore.org.uk
SUMMARY:Understanding Personality Disorders (Part 1)
DESCRIPTION:In this course we consider how personality disorders are defined and how they may develop\,as well as exploring the stigma surrounding this diagnosis.
URL:https://restore.org.uk/events/understanding-personality-disorders-part-1-2/
LOCATION:The Straw Bale\, Restore\, Manzil Way\, Oxford\, Oxfordshire\, OX4 1YH\, United Kingdom
CATEGORIES:Learning,ORC Courses
ORGANIZER;CN="Oxfordshire Recovery College":MAILTO:contactorc@restore.org.uk
END:VEVENT
BEGIN:VEVENT
DTSTART;TZID=Europe/London:20241017T140000
DTEND;TZID=Europe/London:20241017T153000
DTSTAMP:20260421T065152
CREATED:20240801T103601Z
LAST-MODIFIED:20240801T103605Z
UID:10000185-1729173600-1729179000@restore.org.uk
SUMMARY:Healthy Sleep (Part 2)
DESCRIPTION:This course explores what healthy sleep is and offers some positive tips for improving sleep.
URL:https://restore.org.uk/events/healthy-sleep-part-2-2/
LOCATION:Location: Online
CATEGORIES:Learning,ORC Courses
ORGANIZER;CN="Oxfordshire Recovery College":MAILTO:contactorc@restore.org.uk
END:VEVENT
BEGIN:VEVENT
DTSTART;TZID=Europe/London:20241018T123000
DTEND;TZID=Europe/London:20241018T153000
DTSTAMP:20260421T065152
CREATED:20240801T103713Z
LAST-MODIFIED:20240801T103717Z
UID:10000186-1729254600-1729265400@restore.org.uk
SUMMARY:Relationships and Mental Health(Part 2)
DESCRIPTION:
URL:https://restore.org.uk/events/relationships-and-mental-healthpart-2/
LOCATION:ORC at Restore Banbury\, 28 Calthorpe Street\, Banbury\, Oxfordshire\, OX16 5EX\, United Kingdom
CATEGORIES:Learning,ORC Courses
END:VEVENT
BEGIN:VEVENT
DTSTART;TZID=Europe/London:20241018T130000
DTEND;TZID=Europe/London:20241018T160000
DTSTAMP:20260421T065152
CREATED:20240801T104151Z
LAST-MODIFIED:20240801T104154Z
UID:10000187-1729256400-1729267200@restore.org.uk
SUMMARY:Wildlife and Wellbeing (Part 1)
DESCRIPTION:On this course we explore the ways in which people relate to the natural world and look at some of the research that has shown us the positive impacts of increased interaction with wildlife on our well-being and mental health.
URL:https://restore.org.uk/events/wildlife-and-wellbeing-part-1/
LOCATION:The Straw Bale\, Restore\, Manzil Way\, Oxford\, Oxfordshire\, OX4 1YH\, United Kingdom
CATEGORIES:Learning,ORC Courses
ORGANIZER;CN="Oxfordshire Recovery College":MAILTO:contactorc@restore.org.uk
END:VEVENT
BEGIN:VEVENT
DTSTART;TZID=Europe/London:20241021T103000
DTEND;TZID=Europe/London:20241021T120000
DTSTAMP:20260421T065152
CREATED:20240801T093918Z
LAST-MODIFIED:20240801T094013Z
UID:10000169-1729506600-1729512000@restore.org.uk
SUMMARY:Creative Writing (Part 4)
DESCRIPTION:Our creative writing course provides a chance to think about and develop the use of creative skills to aid recovery.
URL:https://restore.org.uk/events/creative-writing-part-3-2/
LOCATION:Location: Online
CATEGORIES:Learning,ORC Courses
ORGANIZER;CN="Oxfordshire Recovery College":MAILTO:contactorc@restore.org.uk
END:VEVENT
BEGIN:VEVENT
DTSTART;TZID=Europe/London:20241021T130000
DTEND;TZID=Europe/London:20241021T160000
DTSTAMP:20260421T065152
CREATED:20240801T104302Z
LAST-MODIFIED:20240801T104305Z
UID:10000188-1729515600-1729526400@restore.org.uk
SUMMARY:Neurodivergence and Wellbeing(Part 3)
DESCRIPTION:This course looks at how we can define neurodivergence and how it may affect our wellbeing. We introduce various strategies\, and we explore how wellbeing is related to reaching our goals
URL:https://restore.org.uk/events/neurodivergence-and-wellbeingpart-3/
LOCATION:The Straw Bale\, Restore\, Manzil Way\, Oxford\, Oxfordshire\, OX4 1YH\, United Kingdom
CATEGORIES:Learning,ORC Courses
ORGANIZER;CN="Oxfordshire Recovery College":MAILTO:contactorc@restore.org.uk
END:VEVENT
END:VCALENDAR