BEGIN:VCALENDAR
VERSION:2.0
PRODID:-//Restore - working for mental health - ECPv6.15.20//NONSGML v1.0//EN
CALSCALE:GREGORIAN
METHOD:PUBLISH
X-WR-CALNAME:Restore - working for mental health
X-ORIGINAL-URL:https://restore.org.uk
X-WR-CALDESC:Events for Restore - working for mental health
REFRESH-INTERVAL;VALUE=DURATION:PT1H
X-Robots-Tag:noindex
X-PUBLISHED-TTL:PT1H
BEGIN:VTIMEZONE
TZID:Europe/London
BEGIN:DAYLIGHT
TZOFFSETFROM:+0000
TZOFFSETTO:+0100
TZNAME:BST
DTSTART:20230326T010000
END:DAYLIGHT
BEGIN:STANDARD
TZOFFSETFROM:+0100
TZOFFSETTO:+0000
TZNAME:GMT
DTSTART:20231029T010000
END:STANDARD
BEGIN:DAYLIGHT
TZOFFSETFROM:+0000
TZOFFSETTO:+0100
TZNAME:BST
DTSTART:20240331T010000
END:DAYLIGHT
BEGIN:STANDARD
TZOFFSETFROM:+0100
TZOFFSETTO:+0000
TZNAME:GMT
DTSTART:20241027T010000
END:STANDARD
BEGIN:DAYLIGHT
TZOFFSETFROM:+0000
TZOFFSETTO:+0100
TZNAME:BST
DTSTART:20250330T010000
END:DAYLIGHT
BEGIN:STANDARD
TZOFFSETFROM:+0100
TZOFFSETTO:+0000
TZNAME:GMT
DTSTART:20251026T010000
END:STANDARD
END:VTIMEZONE
BEGIN:VEVENT
DTSTART;TZID=Europe/London:20240920T130000
DTEND;TZID=Europe/London:20240920T160000
DTSTAMP:20260420T062207
CREATED:20240730T150709Z
LAST-MODIFIED:20240730T150713Z
UID:10000148-1726837200-1726848000@restore.org.uk
SUMMARY:Men\, Mental Health and Society (Part 1)
DESCRIPTION:This course explores why men may find it harder to talk about their mental health or seek help\, the impact of how we use language and the stigma around men’s mental health. It is suitable for anyone interested in the effects of gender on our mental health.
URL:https://restore.org.uk/events/men-mental-health-and-society-part-1-2/
LOCATION:The Straw Bale\, Restore\, Manzil Way\, Oxford\, Oxfordshire\, OX4 1YH\, United Kingdom
CATEGORIES:Learning,ORC Courses
ORGANIZER;CN="Oxfordshire Recovery College":MAILTO:contactorc@restore.org.uk
END:VEVENT
BEGIN:VEVENT
DTSTART;TZID=Europe/London:20240923T093000
DTEND;TZID=Europe/London:20240923T163000
DTSTAMP:20260420T062207
CREATED:20240612T120315Z
LAST-MODIFIED:20240712T121615Z
UID:10000100-1727083800-1727109000@restore.org.uk
SUMMARY:Mental Health First Aid - 23rd & 30th Sep
DESCRIPTION:Two days\, in person at Restore. This accredited training enables you to become a Mental Health First Aider\, with the ability to recognise the signs of mental ill health\, provide support\, and guidance towards professional help. 
URL:https://restore.org.uk/events/mental-health-first-aid-23rd-amp-30th-sep/
LOCATION:Restore’s Training Room\, Manzil Way\, Restore\, Manzil Way\, Oxford\, Oxfordshire\, OX4 1YH\, United Kingdom
CATEGORIES:Learning,Training
ORGANIZER;CN="Training Team":MAILTO:training@restore.org.uk
END:VEVENT
BEGIN:VEVENT
DTSTART;TZID=Europe/London:20240923T100000
DTEND;TZID=Europe/London:20240923T130000
DTSTAMP:20260420T062207
CREATED:20240730T151727Z
LAST-MODIFIED:20240730T151730Z
UID:10000153-1727085600-1727096400@restore.org.uk
SUMMARY:Understanding Bipolar
DESCRIPTION:This course aims to increase understanding of Bipolar Disorder including its possible causes and symptoms\, what it might be like to live with it and how we might define it.
URL:https://restore.org.uk/events/understanding-bipolar/
LOCATION:The Straw Bale\, Restore\, Manzil Way\, Oxford\, Oxfordshire\, OX4 1YH\, United Kingdom
CATEGORIES:Learning,ORC Courses
ORGANIZER;CN="Oxfordshire Recovery College":MAILTO:contactorc@restore.org.uk
END:VEVENT
BEGIN:VEVENT
DTSTART;TZID=Europe/London:20240923T103000
DTEND;TZID=Europe/London:20240923T120000
DTSTAMP:20260420T062207
CREATED:20240729T145407Z
LAST-MODIFIED:20240729T145411Z
UID:10000137-1727087400-1727092800@restore.org.uk
SUMMARY:Understanding Mental Health (Part 2)
DESCRIPTION:This course explores what is meant by ‘mental health’ and what good mental health looks like.
URL:https://restore.org.uk/events/understanding-mental-health-part-2/
LOCATION:Location: Online
CATEGORIES:Learning,ORC Courses
ORGANIZER;CN="Oxfordshire Recovery College":MAILTO:contactorc@restore.org.uk
END:VEVENT
BEGIN:VEVENT
DTSTART;TZID=Europe/London:20240923T130000
DTEND;TZID=Europe/London:20240923T160000
DTSTAMP:20260420T062207
CREATED:20240730T152849Z
LAST-MODIFIED:20240730T152852Z
UID:10000154-1727096400-1727107200@restore.org.uk
SUMMARY:Kelmscott Manor Art Workshop
DESCRIPTION:This workshop will be delivered by Kelmscott Manor facilitators\, supported by ORC tutors. Students will make a concertinasketchbook followed by creative journaling in the beautiful grounds of Kelmscott Manor. The workshop includes a tour of the Manor and a break forrefreshments. You must be able to make your own way to Kelmscott Manor – please check its location before you sign up – Kelmscott\, Lechlade GL7 3HJ
URL:https://restore.org.uk/events/kelmscott-manor-art-workshop/
LOCATION:Kelmscott Manor\, Kelmscott\, Oxfordshire\, United Kingdom
CATEGORIES:Learning,ORC Courses
ORGANIZER;CN="Oxfordshire Recovery College":MAILTO:contactorc@restore.org.uk
END:VEVENT
BEGIN:VEVENT
DTSTART;TZID=Europe/London:20240924T100000
DTEND;TZID=Europe/London:20240924T130000
DTSTAMP:20260420T062207
CREATED:20240731T075457Z
LAST-MODIFIED:20240731T075501Z
UID:10000155-1727172000-1727182800@restore.org.uk
SUMMARY:Introduction to Mindfulness
DESCRIPTION:This course gives students an overview and a felt experience of the core principles of mindfulness – the practice of bringing awareness to our present moment experience with kindness rather than judgement.
URL:https://restore.org.uk/events/introduction-to-mindfulness/
LOCATION:The Straw Bale\, Restore\, Manzil Way\, Oxford\, Oxfordshire\, OX4 1YH\, United Kingdom
CATEGORIES:Learning,ORC Courses
ORGANIZER;CN="Oxfordshire Recovery College":MAILTO:contactorc@restore.org.uk
END:VEVENT
BEGIN:VEVENT
DTSTART;TZID=Europe/London:20240924T103000
DTEND;TZID=Europe/London:20240924T120000
DTSTAMP:20260420T062207
CREATED:20240729T150108Z
LAST-MODIFIED:20240729T150112Z
UID:10000139-1727173800-1727179200@restore.org.uk
SUMMARY:Boosting Confidence (Part 2)
DESCRIPTION:Mental ill-health often leads to a loss of confidence\, making it difficult for people to get the most out of their lives. We appreciate that developing or regaining confidence is an important part of many people’s recovery\, This course will help you recognise your existing skills\, and consider some practical ways to move forwards with  increased confidence
URL:https://restore.org.uk/events/boosting-confidence-part-2/
LOCATION:Location: Online
CATEGORIES:Learning,ORC Courses
ORGANIZER;CN="Oxfordshire Recovery College":MAILTO:contactorc@restore.org.uk
END:VEVENT
BEGIN:VEVENT
DTSTART;TZID=Europe/London:20240925T100000
DTEND;TZID=Europe/London:20240925T130000
DTSTAMP:20260420T062207
CREATED:20240731T075722Z
LAST-MODIFIED:20240801T094137Z
UID:10000156-1727258400-1727269200@restore.org.uk
SUMMARY:Journaling for Wellbeing
DESCRIPTION:In this course we discuss how journaling in its widest sense (recording some aspects of our day to day experiences) supports wellbeing by helping us gain perspective on our lives\, notice what’s good and focus on what is meaningful to us.
URL:https://restore.org.uk/events/journaling-for-well-being-3/
LOCATION:ORC at Didcot Civic Hall\, Britwell Road\, Didcot\, Oxfordshire\, OX11 7JN\, United Kingdom
CATEGORIES:Learning,ORC Courses
ORGANIZER;CN="Oxfordshire Recovery College":MAILTO:contactorc@restore.org.uk
END:VEVENT
BEGIN:VEVENT
DTSTART;TZID=Europe/London:20240925T140000
DTEND;TZID=Europe/London:20240925T153000
DTSTAMP:20260420T062207
CREATED:20240729T150706Z
LAST-MODIFIED:20240729T150710Z
UID:10000142-1727272800-1727278200@restore.org.uk
SUMMARY:Living with Social Anxiety (Part 2)
DESCRIPTION:Social anxiety is the most common form of anxiety\, and can have a substantial impact on our lives. This course explores what social anxiety is (and isn’t)\, and how it may arise. We explore strategies and tools to help us live better with social anxiety\, plus ways to get more support. This is a welcoming course for anyone who sometimes struggles in social situations
URL:https://restore.org.uk/events/living-with-social-anxiety-part-2-2/
LOCATION:Location: Online
ORGANIZER;CN="Oxfordshire Recovery College":MAILTO:contactorc@restore.org.uk
END:VEVENT
BEGIN:VEVENT
DTSTART;TZID=Europe/London:20240925T190000
DTEND;TZID=Europe/London:20240925T210000
DTSTAMP:20260420T062207
CREATED:20240731T075902Z
LAST-MODIFIED:20240801T091111Z
UID:10000157-1727290800-1727298000@restore.org.uk
SUMMARY:Introduction to Oxfordshire Recovery College
DESCRIPTION:Find out all about ORC and  what recovery is.
URL:https://restore.org.uk/events/introduction-to-oxfordshire-recovery-college-3/
LOCATION:Location: Online
CATEGORIES:Learning,ORC Courses
ORGANIZER;CN="Oxfordshire Recovery College":MAILTO:contactorc@restore.org.uk
END:VEVENT
BEGIN:VEVENT
DTSTART;TZID=Europe/London:20240926T130000
DTEND;TZID=Europe/London:20240926T160000
DTSTAMP:20260420T062207
CREATED:20240731T080136Z
LAST-MODIFIED:20240731T080139Z
UID:10000158-1727355600-1727366400@restore.org.uk
SUMMARY:Menopause and Mental Health
DESCRIPTION:This course explores what the menopause and perimenopause actually are\, how they might affect the person experiencing it\, and those around them\, particularly in terms of mental wellbeing\, and goes on to explore ways to live and cope with menopause day to day. It’s suitable for anyone wanting to understand more about this natural part of life.
URL:https://restore.org.uk/events/menopause-and-mental-health/
LOCATION:The Straw Bale\, Restore\, Manzil Way\, Oxford\, Oxfordshire\, OX4 1YH\, United Kingdom
CATEGORIES:Learning,ORC Courses
ORGANIZER;CN="Oxfordshire Recovery College":MAILTO:contactorc@restore.org.uk
END:VEVENT
BEGIN:VEVENT
DTSTART;TZID=Europe/London:20240926T190000
DTEND;TZID=Europe/London:20240926T203000
DTSTAMP:20260420T062207
CREATED:20240730T150139Z
LAST-MODIFIED:20240730T150143Z
UID:10000145-1727377200-1727382600@restore.org.uk
SUMMARY:Conscious Doodling (Part 2)
DESCRIPTION:During the Conscious Doodling sessions you are given opportunities to follow short guided exercises using simple shapes and patterns\, often inspired by the natural world\, which may help you connect to the body and breath. The sessions are a safe space to experiment with doodling where there is no right or wrong\, just a focus on experiencing the process.
URL:https://restore.org.uk/events/conscious-doodling-part-2/
LOCATION:Location: Online
CATEGORIES:Learning,ORC Courses
ORGANIZER;CN="Oxfordshire Recovery College":MAILTO:contactorc@restore.org.uk
END:VEVENT
BEGIN:VEVENT
DTSTART;TZID=Europe/London:20240927T100000
DTEND;TZID=Europe/London:20240927T120000
DTSTAMP:20260420T062207
CREATED:20240731T080446Z
LAST-MODIFIED:20240731T080450Z
UID:10000159-1727431200-1727438400@restore.org.uk
SUMMARY:Mindful Walk
DESCRIPTION:Mindful walks are a chance to slow\, get outside and appreciate the beauty of nature \, We’ll go at a slow\, gentle pace and pause regularly to pay attention to what’s around us.
URL:https://restore.org.uk/events/mindful-walk/
LOCATION:Elder Stubbs\, Rymers Lane\, Oxford\, Oxfordshire\, OX4 3DY\, United Kingdom
CATEGORIES:Learning,ORC Courses
ORGANIZER;CN="Oxfordshire Recovery College":MAILTO:contactorc@restore.org.uk
END:VEVENT
BEGIN:VEVENT
DTSTART;TZID=Europe/London:20240927T103000
DTEND;TZID=Europe/London:20240927T120000
DTSTAMP:20260420T062207
CREATED:20240730T151109Z
LAST-MODIFIED:20240730T151111Z
UID:10000151-1727433000-1727438400@restore.org.uk
SUMMARY:Nurturing Hope (Part 1)
DESCRIPTION:This is a course for anyone keen to strengthen a sense of hope\, whether you feel you are struggling to find hope at the moment\, or if you feel like you have a small amount of hope but would like to increase it
URL:https://restore.org.uk/events/nurturing-hope-part-1-3/
LOCATION:Location: Online
CATEGORIES:Learning,ORC Courses
ORGANIZER;CN="Oxfordshire Recovery College":MAILTO:contactorc@restore.org.uk
END:VEVENT
BEGIN:VEVENT
DTSTART;TZID=Europe/London:20240927T130000
DTEND;TZID=Europe/London:20240927T160000
DTSTAMP:20260420T062207
CREATED:20240730T150829Z
LAST-MODIFIED:20240730T150832Z
UID:10000150-1727442000-1727452800@restore.org.uk
SUMMARY:Men\, Mental Health and Society (Part 3)
DESCRIPTION:This course explores why men may find it harder to talk about their mental health or seek help\, the impact of how we use language and the stigma around men’s mental health. It is suitable for anyone interested in the effects of gender on our mental health.
URL:https://restore.org.uk/events/men-mental-health-and-society-part-3/
LOCATION:The Straw Bale\, Restore\, Manzil Way\, Oxford\, Oxfordshire\, OX4 1YH\, United Kingdom
CATEGORIES:Learning,ORC Courses
ORGANIZER;CN="Oxfordshire Recovery College":MAILTO:contactorc@restore.org.uk
END:VEVENT
BEGIN:VEVENT
DTSTART;TZID=Europe/London:20240927T130000
DTEND;TZID=Europe/London:20240927T160000
DTSTAMP:20260420T062207
CREATED:20240730T150757Z
LAST-MODIFIED:20240730T150800Z
UID:10000149-1727442000-1727452800@restore.org.uk
SUMMARY:Men\, Mental Health and Society (Part 1)
DESCRIPTION:This course explores why men may find it harder to talk about their mental health or seek help\, the impact of how we use language and the stigma around men’s mental health. It is suitable for anyone interested in the effects of gender on our mental health.
URL:https://restore.org.uk/events/men-mental-health-and-society-part-1-3/
LOCATION:The Straw Bale\, Restore\, Manzil Way\, Oxford\, Oxfordshire\, OX4 1YH\, United Kingdom
CATEGORIES:Learning,ORC Courses
ORGANIZER;CN="Oxfordshire Recovery College":MAILTO:contactorc@restore.org.uk
END:VEVENT
BEGIN:VEVENT
DTSTART;TZID=Europe/London:20240930T103000
DTEND;TZID=Europe/London:20240930T120000
DTSTAMP:20260420T062207
CREATED:20240731T080704Z
LAST-MODIFIED:20240731T080708Z
UID:10000160-1727692200-1727697600@restore.org.uk
SUMMARY:Creative Writing (Part 1)
DESCRIPTION:Our creative writing course provides a chance to think about and develop the use of creative skills to aid recovery.
URL:https://restore.org.uk/events/creative-writing-part-1-2/
LOCATION:Location: Online
CATEGORIES:Learning,ORC Courses
ORGANIZER;CN="Oxfordshire Recovery College":MAILTO:contactorc@restore.org.uk
END:VEVENT
BEGIN:VEVENT
DTSTART;TZID=Europe/London:20240930T130000
DTEND;TZID=Europe/London:20240930T160000
DTSTAMP:20260420T062207
CREATED:20240731T080940Z
LAST-MODIFIED:20240731T080944Z
UID:10000161-1727701200-1727712000@restore.org.uk
SUMMARY:Understanding Confidence
DESCRIPTION:Mental ill-health often leads to a loss of confidence\, making it difficult for people to get the most out of their lives. We appreciate that developing or regaining confidence is an important part of many people’s recovery.
URL:https://restore.org.uk/events/understanding-confidence-2/
LOCATION:The Straw Bale\, Restore\, Manzil Way\, Oxford\, Oxfordshire\, OX4 1YH\, United Kingdom
CATEGORIES:Learning,ORC Courses
ORGANIZER;CN="Oxfordshire Recovery College":MAILTO:contactorc@restore.org.uk
END:VEVENT
BEGIN:VEVENT
DTSTART;TZID=Europe/London:20241002T093000
DTEND;TZID=Europe/London:20241002T163000
DTSTAMP:20260420T062207
CREATED:20240612T120506Z
LAST-MODIFIED:20240612T120510Z
UID:10000101-1727861400-1727886600@restore.org.uk
SUMMARY:Mental Health First Aid - 2nd & 9th Oct
DESCRIPTION:Two days\, in person at Restore. This accredited training enables you to become a Mental Health First Aider\, with the ability to recognise the signs of mental ill health\, provide support\, and guidance towards professional help. 
URL:https://restore.org.uk/events/mental-health-first-aid-2nd-9th-oct/
LOCATION:Restore’s Training Room\, Manzil Way\, Restore\, Manzil Way\, Oxford\, Oxfordshire\, OX4 1YH\, United Kingdom
CATEGORIES:Learning,Training
ORGANIZER;CN="Training Team":MAILTO:training@restore.org.uk
END:VEVENT
BEGIN:VEVENT
DTSTART;TZID=Europe/London:20241002T100000
DTEND;TZID=Europe/London:20241002T120000
DTSTAMP:20260420T062207
CREATED:20240801T091017Z
LAST-MODIFIED:20240801T091018Z
UID:10000165-1727863200-1727870400@restore.org.uk
SUMMARY:Introduction to Oxfordshire Recovery College
DESCRIPTION:Find out all about ORC and  what recovery is.
URL:https://restore.org.uk/events/introduction-to-oxfordshire-recovery-college-4/
LOCATION:Location: Online
CATEGORIES:Learning,ORC Courses
ORGANIZER;CN="Oxfordshire Recovery College":MAILTO:contactorc@restore.org.uk
END:VEVENT
BEGIN:VEVENT
DTSTART;TZID=Europe/London:20241002T100000
DTEND;TZID=Europe/London:20241002T130000
DTSTAMP:20260420T062207
CREATED:20240801T090606Z
LAST-MODIFIED:20240801T090610Z
UID:10000162-1727863200-1727874000@restore.org.uk
SUMMARY:Mindful Movement with T'ai Chi Chih
DESCRIPTION:This course offers the opportunity to learn some easy T’ai Chi Chih movements as a stress-reduction tool to help in recovery. No previous knowledge or equipment is required.
URL:https://restore.org.uk/events/mindful-movement-with-tai-chi-chih/
LOCATION:The Straw Bale\, Restore\, Manzil Way\, Oxford\, Oxfordshire\, OX4 1YH\, United Kingdom
CATEGORIES:Learning,ORC Courses
ORGANIZER;CN="Oxfordshire Recovery College":MAILTO:contactorc@restore.org.uk
END:VEVENT
BEGIN:VEVENT
DTSTART;TZID=Europe/London:20241002T103000
DTEND;TZID=Europe/London:20241002T120000
DTSTAMP:20260420T062207
CREATED:20240801T090758Z
LAST-MODIFIED:20240801T090801Z
UID:10000163-1727865000-1727870400@restore.org.uk
SUMMARY:Loss\, Grief and Wellbeing(Part 1)
DESCRIPTION:This course is designed to provide information and ideas for support for anyone interested in or who has experienced grief or bereavement. It explores the various types of grief we can experience\, and how grief can impact on our lives\, wellbeing\, and mental health. We explore some of the common theories of grief\, share wellbeing tips\, and examine how we may be able to support someone who is experiencing grief. Signposting is provided for further sources of support. \n\n\n\nWe encourage students to think about their own experience of grief and loss\, and how it might affect them during the course. The course is not usually suited to anyone who has experienced a recent\, significant personal loss or bereavement.
URL:https://restore.org.uk/events/loss-grief-and-wellbeingpart-1/
LOCATION:Location: Online
CATEGORIES:Learning,ORC Courses
ORGANIZER;CN="Oxfordshire Recovery College":MAILTO:contactorc@restore.org.uk
END:VEVENT
BEGIN:VEVENT
DTSTART;TZID=Europe/London:20241003T100000
DTEND;TZID=Europe/London:20241003T130000
DTSTAMP:20260420T062207
CREATED:20240801T091310Z
LAST-MODIFIED:20240801T091313Z
UID:10000166-1727949600-1727960400@restore.org.uk
SUMMARY:Let's Talk Loneliness
DESCRIPTION:This course is suitable for anyone wishing to understand more about loneliness\, and how it can affect us in our day to day lives\,particularly in terms of our mental health.
URL:https://restore.org.uk/events/lets-talk-loneliness-2/
LOCATION:The Straw Bale\, Restore\, Manzil Way\, Oxford\, Oxfordshire\, OX4 1YH\, United Kingdom
CATEGORIES:Learning,ORC Courses
ORGANIZER;CN="Oxfordshire Recovery College":MAILTO:contactorc@restore.org.uk
END:VEVENT
BEGIN:VEVENT
DTSTART;TZID=Europe/London:20241003T190000
DTEND;TZID=Europe/London:20241003T203000
DTSTAMP:20260420T062207
CREATED:20240730T150220Z
LAST-MODIFIED:20240730T150223Z
UID:10000146-1727982000-1727987400@restore.org.uk
SUMMARY:Conscious Doodling (Part 3)
DESCRIPTION:During the Conscious Doodling sessions you are given opportunities to follow short guided exercises using simple shapes and patterns\, often inspired by the natural world\, which may help you connect to the body and breath. The sessions are a safe space to experiment with doodling where there is no right or wrong\, just a focus on experiencing the process.
URL:https://restore.org.uk/events/conscious-doodling-part-3/
LOCATION:Location: Online
CATEGORIES:Learning,ORC Courses
ORGANIZER;CN="Oxfordshire Recovery College":MAILTO:contactorc@restore.org.uk
END:VEVENT
BEGIN:VEVENT
DTSTART;TZID=Europe/London:20241004T103000
DTEND;TZID=Europe/London:20241004T120000
DTSTAMP:20260420T062207
CREATED:20240730T151256Z
LAST-MODIFIED:20240730T151300Z
UID:10000152-1728037800-1728043200@restore.org.uk
SUMMARY:Nurturing Hope (Part 2)
DESCRIPTION:This is a course for anyone keen to strengthen a sense of hope\, whether you feel you are struggling to find hope at the moment\, or if you feel like you have a small amount of hope but would like to increase it
URL:https://restore.org.uk/events/nurturing-hope-part-2-2/
LOCATION:Location: Online
CATEGORIES:Learning,ORC Courses
ORGANIZER;CN="Oxfordshire Recovery College":MAILTO:contactorc@restore.org.uk
END:VEVENT
BEGIN:VEVENT
DTSTART;TZID=Europe/London:20241007T103000
DTEND;TZID=Europe/London:20241007T120000
DTSTAMP:20260420T062207
CREATED:20240801T091409Z
LAST-MODIFIED:20240801T091413Z
UID:10000167-1728297000-1728302400@restore.org.uk
SUMMARY:Creative Writing (Part 2)
DESCRIPTION:Our creative writing course provides a chance to think about and develop the use of creative skills to aid recovery.
URL:https://restore.org.uk/events/creative-writing-part-2/
LOCATION:Location: Online
CATEGORIES:Learning,ORC Courses
ORGANIZER;CN="Oxfordshire Recovery College":MAILTO:contactorc@restore.org.uk
END:VEVENT
BEGIN:VEVENT
DTSTART;TZID=Europe/London:20241007T130000
DTEND;TZID=Europe/London:20241007T160000
DTSTAMP:20260420T062207
CREATED:20240801T094504Z
LAST-MODIFIED:20240801T094507Z
UID:10000170-1728306000-1728316800@restore.org.uk
SUMMARY:Neurodivergence and Wellbeing (Part 1)
DESCRIPTION:This course looks at how we can define neurodivergence and how it may affect our wellbeing. We introduce various strategies\, and we explore how wellbeing is related to reaching our goals
URL:https://restore.org.uk/events/neurodivergence-and-wellbeing-part-1/
LOCATION:The Straw Bale\, Restore\, Manzil Way\, Oxford\, Oxfordshire\, OX4 1YH\, United Kingdom
CATEGORIES:Learning,ORC Courses
ORGANIZER;CN="Oxfordshire Recovery College":MAILTO:contactorc@restore.org.uk
END:VEVENT
BEGIN:VEVENT
DTSTART;TZID=Europe/London:20241008T103000
DTEND;TZID=Europe/London:20241008T123000
DTSTAMP:20260420T062207
CREATED:20240801T100348Z
LAST-MODIFIED:20240801T100352Z
UID:10000171-1728383400-1728390600@restore.org.uk
SUMMARY:Thinking about Thinking (Part 1)
DESCRIPTION:This course is an introduction to how we as individuals think about thinking\, and will help students to explore and understand more about this subject.
URL:https://restore.org.uk/events/thinking-about-thinking-part-1-2/
LOCATION:Location: Online
CATEGORIES:Learning,ORC Courses
ORGANIZER;CN="Oxfordshire Recovery College":MAILTO:contactorc@restore.org.uk
END:VEVENT
BEGIN:VEVENT
DTSTART;TZID=Europe/London:20241009T103000
DTEND;TZID=Europe/London:20241009T120000
DTSTAMP:20260420T062207
CREATED:20240801T090846Z
LAST-MODIFIED:20240801T090849Z
UID:10000164-1728469800-1728475200@restore.org.uk
SUMMARY:Loss\, Grief and Wellbeing(Part 2)
DESCRIPTION:This course is designed to provide information and ideas for support for anyone interested in or who has experienced grief or bereavement. It explores the various types of grief we can experience\, and how grief can impact on our lives\, wellbeing\, and mental health. We explore some of the common theories of grief\, share wellbeing tips\, and examine how we may be able to support someone who is experiencing grief. Signposting is provided for further sources of support. \n\n\n\nWe encourage students to think about their own experience of grief and loss\, and how it might affect them during the course. The course is not usually suited to anyone who has experienced a recent\, significant personal loss or bereavement.
URL:https://restore.org.uk/events/loss-grief-and-wellbeingpart-2/
LOCATION:Location: Online
CATEGORIES:Learning,ORC Courses
ORGANIZER;CN="Oxfordshire Recovery College":MAILTO:contactorc@restore.org.uk
END:VEVENT
BEGIN:VEVENT
DTSTART;TZID=Europe/London:20241009T190000
DTEND;TZID=Europe/London:20241009T203000
DTSTAMP:20260420T062207
CREATED:20240801T100617Z
LAST-MODIFIED:20240801T100620Z
UID:10000172-1728500400-1728505800@restore.org.uk
SUMMARY:Wellbeing at Work (Part 1)
DESCRIPTION:This course explores what can support or hinder our wellbeing in the workplace\, and strategies to manage our wellbeing better.
URL:https://restore.org.uk/events/wellbeing-at-work-part-1/
LOCATION:Oxfordshire
CATEGORIES:Learning,ORC Courses
ORGANIZER;CN="Oxfordshire Recovery College":MAILTO:contactorc@restore.org.uk
END:VEVENT
END:VCALENDAR