BEGIN:VCALENDAR
VERSION:2.0
PRODID:-//Restore - working for mental health - ECPv6.15.20//NONSGML v1.0//EN
CALSCALE:GREGORIAN
METHOD:PUBLISH
X-ORIGINAL-URL:https://restore.org.uk
X-WR-CALDESC:Events for Restore - working for mental health
REFRESH-INTERVAL;VALUE=DURATION:PT1H
X-Robots-Tag:noindex
X-PUBLISHED-TTL:PT1H
BEGIN:VTIMEZONE
TZID:Europe/London
BEGIN:DAYLIGHT
TZOFFSETFROM:+0000
TZOFFSETTO:+0100
TZNAME:BST
DTSTART:20250330T010000
END:DAYLIGHT
BEGIN:STANDARD
TZOFFSETFROM:+0100
TZOFFSETTO:+0000
TZNAME:GMT
DTSTART:20251026T010000
END:STANDARD
BEGIN:DAYLIGHT
TZOFFSETFROM:+0000
TZOFFSETTO:+0100
TZNAME:BST
DTSTART:20260329T010000
END:DAYLIGHT
BEGIN:STANDARD
TZOFFSETFROM:+0100
TZOFFSETTO:+0000
TZNAME:GMT
DTSTART:20261025T010000
END:STANDARD
BEGIN:DAYLIGHT
TZOFFSETFROM:+0000
TZOFFSETTO:+0100
TZNAME:BST
DTSTART:20270328T010000
END:DAYLIGHT
BEGIN:STANDARD
TZOFFSETFROM:+0100
TZOFFSETTO:+0000
TZNAME:GMT
DTSTART:20271031T010000
END:STANDARD
END:VTIMEZONE
BEGIN:VEVENT
DTSTART;TZID=Europe/London:20260313T100000
DTEND;TZID=Europe/London:20260313T130000
DTSTAMP:20260419T170517
CREATED:20260122T153707Z
LAST-MODIFIED:20260122T153741Z
UID:10000764-1773396000-1773406800@restore.org.uk
SUMMARY:Coping with Self Harm
DESCRIPTION:This course aims to provide a safe space in which students can think about and discuss the different reasons that a person might engage in self harming behaviour – focussing on why\, not how. We look at the prevalence of self harm in the UK and think about what might drive so many people to engage in self harming behaviours. Having identified some of the reasons that people engage in self harming behaviours we think together in detail about possible alternatives.
URL:https://restore.org.uk/events/coping-with-self-harm-6/
LOCATION:The Straw Bale\, Restore\, Manzil Way\, Oxford\, Oxfordshire\, OX4 1YH\, United Kingdom
CATEGORIES:Learning,ORC Courses
ORGANIZER;CN="Oxfordshire Recovery College":MAILTO:contactorc@restore.org.uk
END:VEVENT
BEGIN:VEVENT
DTSTART;TZID=Europe/London:20260313T103000
DTEND;TZID=Europe/London:20260313T120000
DTSTAMP:20260419T170517
CREATED:20260122T151201Z
LAST-MODIFIED:20260122T151236Z
UID:10000755-1773397800-1773403200@restore.org.uk
SUMMARY:Telling your Story (Part 2)
DESCRIPTION:This 4-part course will support students to make their own short video story about one aspect of their recovery journey. Telling personal stories benefits our mental health by helping us reflect on and make sense of things that have happened to us. Storytelling also connects us to others and inspires us to cope with new challenges in the future. This course will involve working on how to structure a story and use technology to create a short video. \n\n\n\nPlease note: this course will involve sharing aspects of our personal stories within a group and requires students to have a smartphone/tablet/laptop which they can use for making their video story
URL:https://restore.org.uk/events/telling-your-story-part-2-2/
LOCATION:Location: Online
CATEGORIES:Learning,ORC Courses
ORGANIZER;CN="Oxfordshire Recovery College":MAILTO:contactorc@restore.org.uk
END:VEVENT
END:VCALENDAR