BEGIN:VCALENDAR
VERSION:2.0
PRODID:-//Restore - working for mental health - ECPv6.15.20//NONSGML v1.0//EN
CALSCALE:GREGORIAN
METHOD:PUBLISH
X-WR-CALNAME:Restore - working for mental health
X-ORIGINAL-URL:https://restore.org.uk
X-WR-CALDESC:Events for Restore - working for mental health
REFRESH-INTERVAL;VALUE=DURATION:PT1H
X-Robots-Tag:noindex
X-PUBLISHED-TTL:PT1H
BEGIN:VTIMEZONE
TZID:Europe/London
BEGIN:DAYLIGHT
TZOFFSETFROM:+0000
TZOFFSETTO:+0100
TZNAME:BST
DTSTART:20250330T010000
END:DAYLIGHT
BEGIN:STANDARD
TZOFFSETFROM:+0100
TZOFFSETTO:+0000
TZNAME:GMT
DTSTART:20251026T010000
END:STANDARD
BEGIN:DAYLIGHT
TZOFFSETFROM:+0000
TZOFFSETTO:+0100
TZNAME:BST
DTSTART:20260329T010000
END:DAYLIGHT
BEGIN:STANDARD
TZOFFSETFROM:+0100
TZOFFSETTO:+0000
TZNAME:GMT
DTSTART:20261025T010000
END:STANDARD
BEGIN:DAYLIGHT
TZOFFSETFROM:+0000
TZOFFSETTO:+0100
TZNAME:BST
DTSTART:20270328T010000
END:DAYLIGHT
BEGIN:STANDARD
TZOFFSETFROM:+0100
TZOFFSETTO:+0000
TZNAME:GMT
DTSTART:20271031T010000
END:STANDARD
END:VTIMEZONE
BEGIN:VEVENT
DTSTART;TZID=Europe/London:20260312T100000
DTEND;TZID=Europe/London:20260312T130000
DTSTAMP:20260419T131044
CREATED:20260122T150259Z
LAST-MODIFIED:20260122T150335Z
UID:10000749-1773309600-1773320400@restore.org.uk
SUMMARY:Managing Healthy Relationships  (Part 2)
DESCRIPTION:Connection with others is vital for human survival\, but when poor mental health affects us\, or those around us\, relationships can be more challenging to nurture and maintain.  In this course we will  explore different types of relationships\,  and look at some strategies for good communication and maintaining healthy boundaries to help us build positive connections.
URL:https://restore.org.uk/events/managing-healthy-relationships-part-2-6/
LOCATION:ORC at Didcot Civic Hall\, Britwell Road\, Didcot\, Oxfordshire\, OX11 7JN\, United Kingdom
CATEGORIES:Learning,ORC Courses
ORGANIZER;CN="Oxfordshire Recovery College":MAILTO:contactorc@restore.org.uk
END:VEVENT
BEGIN:VEVENT
DTSTART;TZID=Europe/London:20260312T140000
DTEND;TZID=Europe/London:20260312T153000
DTSTAMP:20260419T131044
CREATED:20260122T150621Z
LAST-MODIFIED:20260122T150657Z
UID:10000751-1773324000-1773329400@restore.org.uk
SUMMARY:Managing Self Doubt (Part 2)
DESCRIPTION:(3 Parts Online) This course is for anyone keen to learn more about self-doubt and how to live with it better. Self doubt feeds anxiety and can have a huge impact on our mental health and wellbeing. Together we explore the impacts it can have and what we can do to manage it. There is a practical emphasis and we hope that students will leave feeling more able to manage their own self-doubt\, and/or to better support others who experience it.
URL:https://restore.org.uk/events/managing-self-doubt-part-2-2/
LOCATION:Location: Online
ORGANIZER;CN="Oxfordshire Recovery College":MAILTO:contactorc@restore.org.uk
END:VEVENT
BEGIN:VEVENT
DTSTART;TZID=Europe/London:20260312T190000
DTEND;TZID=Europe/London:20260312T203000
DTSTAMP:20260419T131044
CREATED:20260122T153249Z
LAST-MODIFIED:20260122T153325Z
UID:10000761-1773342000-1773347400@restore.org.uk
SUMMARY:Conscious Doodling (Part 1)
DESCRIPTION:During the Conscious Doodling sessions you are given opportunities to follow short guided exercisesusing simple shapes and patterns\, often inspired by the natural world\, which may help you connect to the body and breath. The sessions are a safe space toexperiment with doodling where there is no right or wrong\, just a focus on experiencing the process.
URL:https://restore.org.uk/events/conscious-doodling-part-1-3/
LOCATION:Location: Online
CATEGORIES:ORC Courses
ORGANIZER;CN="Oxfordshire Recovery College":MAILTO:contactorc@restore.org.uk
END:VEVENT
END:VCALENDAR