BEGIN:VCALENDAR
VERSION:2.0
PRODID:-//Restore - working for mental health - ECPv6.15.20//NONSGML v1.0//EN
CALSCALE:GREGORIAN
METHOD:PUBLISH
X-ORIGINAL-URL:https://restore.org.uk
X-WR-CALDESC:Events for Restore - working for mental health
REFRESH-INTERVAL;VALUE=DURATION:PT1H
X-Robots-Tag:noindex
X-PUBLISHED-TTL:PT1H
BEGIN:VTIMEZONE
TZID:Europe/London
BEGIN:DAYLIGHT
TZOFFSETFROM:+0000
TZOFFSETTO:+0100
TZNAME:BST
DTSTART:20250330T010000
END:DAYLIGHT
BEGIN:STANDARD
TZOFFSETFROM:+0100
TZOFFSETTO:+0000
TZNAME:GMT
DTSTART:20251026T010000
END:STANDARD
BEGIN:DAYLIGHT
TZOFFSETFROM:+0000
TZOFFSETTO:+0100
TZNAME:BST
DTSTART:20260329T010000
END:DAYLIGHT
BEGIN:STANDARD
TZOFFSETFROM:+0100
TZOFFSETTO:+0000
TZNAME:GMT
DTSTART:20261025T010000
END:STANDARD
BEGIN:DAYLIGHT
TZOFFSETFROM:+0000
TZOFFSETTO:+0100
TZNAME:BST
DTSTART:20270328T010000
END:DAYLIGHT
BEGIN:STANDARD
TZOFFSETFROM:+0100
TZOFFSETTO:+0000
TZNAME:GMT
DTSTART:20271031T010000
END:STANDARD
END:VTIMEZONE
BEGIN:VEVENT
DTSTART;TZID=Europe/London:20260308T140000
DTEND;TZID=Europe/London:20260308T170000
DTSTAMP:20260419T170521
CREATED:20260116T161355Z
LAST-MODIFIED:20260224T135236Z
UID:10000701-1772978400-1772989200@restore.org.uk
SUMMARY:Restore's Zumbathon
DESCRIPTION:Get ready for the ultimate dance party as Restore brings you a Zumbathon like never before! Join us for a mass participation\, heart-pounding event featuring 15+ certified Zumba instructors. It’s not just about breaking a sweat; it’s about breaking down barriers and supporting better mental health for all. \n\n\n\nBack for 2026\, this event is open to all abilities for two hours of non-stop dance\, laughter\, fitness and good vibes. Doors open from 2pm for stalls and the raffle\, with the event commencing at 3pm. Wear exercise gear and bring your energy and smiles. \n\n\n\nPlease note that if you are driving to the event\, you will need to register your car at the reception upon arrival. \n\n\n\nYou can secure a spot now (all online bookings receive a free raffle ticket) or on the door at the event – join us in improving mental health\, together. \n\n\n\n\n\n\nSECURE YOUR SPOT
URL:https://restore.org.uk/events/restores-zumbathon/
LOCATION:Exeter Hall\, Exeter Hall\, Oxford Rd\, Kidlington\, OX5 1AB\, United Kingdom
CATEGORIES:Events,Fundraising
END:VEVENT
END:VCALENDAR