BEGIN:VCALENDAR
VERSION:2.0
PRODID:-//Restore - working for mental health - ECPv6.15.20//NONSGML v1.0//EN
CALSCALE:GREGORIAN
METHOD:PUBLISH
X-WR-CALNAME:Restore - working for mental health
X-ORIGINAL-URL:https://restore.org.uk
X-WR-CALDESC:Events for Restore - working for mental health
REFRESH-INTERVAL;VALUE=DURATION:PT1H
X-Robots-Tag:noindex
X-PUBLISHED-TTL:PT1H
BEGIN:VTIMEZONE
TZID:Europe/London
BEGIN:DAYLIGHT
TZOFFSETFROM:+0000
TZOFFSETTO:+0100
TZNAME:BST
DTSTART:20250330T010000
END:DAYLIGHT
BEGIN:STANDARD
TZOFFSETFROM:+0100
TZOFFSETTO:+0000
TZNAME:GMT
DTSTART:20251026T010000
END:STANDARD
BEGIN:DAYLIGHT
TZOFFSETFROM:+0000
TZOFFSETTO:+0100
TZNAME:BST
DTSTART:20260329T010000
END:DAYLIGHT
BEGIN:STANDARD
TZOFFSETFROM:+0100
TZOFFSETTO:+0000
TZNAME:GMT
DTSTART:20261025T010000
END:STANDARD
BEGIN:DAYLIGHT
TZOFFSETFROM:+0000
TZOFFSETTO:+0100
TZNAME:BST
DTSTART:20270328T010000
END:DAYLIGHT
BEGIN:STANDARD
TZOFFSETFROM:+0100
TZOFFSETTO:+0000
TZNAME:GMT
DTSTART:20271031T010000
END:STANDARD
END:VTIMEZONE
BEGIN:VEVENT
DTSTART;TZID=Europe/London:20260305T100000
DTEND;TZID=Europe/London:20260305T130000
DTSTAMP:20260419T170525
CREATED:20260122T150158Z
LAST-MODIFIED:20260122T150234Z
UID:10000748-1772704800-1772715600@restore.org.uk
SUMMARY:Managing Healthy Relationships(Part 1)
DESCRIPTION:
URL:https://restore.org.uk/events/managing-healthy-relationshipspart-1-6/
LOCATION:ORC at Didcot Civic Hall\, Britwell Road\, Didcot\, Oxfordshire\, OX11 7JN\, United Kingdom
CATEGORIES:Learning,ORC Courses
ORGANIZER;CN="Oxfordshire Recovery College":MAILTO:contactorc@restore.org.uk
END:VEVENT
BEGIN:VEVENT
DTSTART;TZID=Europe/London:20260305T140000
DTEND;TZID=Europe/London:20260305T153000
DTSTAMP:20260419T170525
CREATED:20260122T150524Z
LAST-MODIFIED:20260122T150601Z
UID:10000750-1772719200-1772724600@restore.org.uk
SUMMARY:Managing Self Doubt (Part 1)
DESCRIPTION:(3 Parts Online) This course is for anyone keen to learn more about self-doubt and how to live with it better. Self doubt feeds anxiety and can have a huge impact on our mental health and wellbeing. Together we explore the impacts it can have and what we can do to manage it. There is a practical emphasis and we hope that students will leave feeling more able to manage their own self-doubt\, and/or to better support others who experience it.
URL:https://restore.org.uk/events/managing-self-doubt-part-1-2/
LOCATION:Location: Online
ORGANIZER;CN="Oxfordshire Recovery College":MAILTO:contactorc@restore.org.uk
END:VEVENT
END:VCALENDAR