BEGIN:VCALENDAR
VERSION:2.0
PRODID:-//Restore - working for mental health - ECPv6.15.20//NONSGML v1.0//EN
CALSCALE:GREGORIAN
METHOD:PUBLISH
X-WR-CALNAME:Restore - working for mental health
X-ORIGINAL-URL:https://restore.org.uk
X-WR-CALDESC:Events for Restore - working for mental health
REFRESH-INTERVAL;VALUE=DURATION:PT1H
X-Robots-Tag:noindex
X-PUBLISHED-TTL:PT1H
BEGIN:VTIMEZONE
TZID:Europe/London
BEGIN:DAYLIGHT
TZOFFSETFROM:+0000
TZOFFSETTO:+0100
TZNAME:BST
DTSTART:20240331T010000
END:DAYLIGHT
BEGIN:STANDARD
TZOFFSETFROM:+0100
TZOFFSETTO:+0000
TZNAME:GMT
DTSTART:20241027T010000
END:STANDARD
BEGIN:DAYLIGHT
TZOFFSETFROM:+0000
TZOFFSETTO:+0100
TZNAME:BST
DTSTART:20250330T010000
END:DAYLIGHT
BEGIN:STANDARD
TZOFFSETFROM:+0100
TZOFFSETTO:+0000
TZNAME:GMT
DTSTART:20251026T010000
END:STANDARD
BEGIN:DAYLIGHT
TZOFFSETFROM:+0000
TZOFFSETTO:+0100
TZNAME:BST
DTSTART:20260329T010000
END:DAYLIGHT
BEGIN:STANDARD
TZOFFSETFROM:+0100
TZOFFSETTO:+0000
TZNAME:GMT
DTSTART:20261025T010000
END:STANDARD
END:VTIMEZONE
BEGIN:VEVENT
DTSTART;TZID=Europe/London:20250520T100000
DTEND;TZID=Europe/London:20250520T113000
DTSTAMP:20260421T105349
CREATED:20250331T140000Z
LAST-MODIFIED:20250327T185648Z
UID:10000440-1747735200-1747740600@restore.org.uk
SUMMARY:Writing for Self Expression (Part 4)
DESCRIPTION:On this course we will listen to and talk about some poems and pieces of prose\, before trying out some expressive writing of our own. Expressive writing is not creative writing or therapy\, but a form of self-expression which helps a person to think about their life and put their thoughts and feelings into words with often surprising results. It is personal\, freestyle writing that is not constrained by concerns about the ‘end result’ but  fosters personal awareness\, resilience and wellbeing.
URL:https://restore.org.uk/events/writing-for-self-expression-part-4-3/
LOCATION:The Straw Bale\, Restore\, Manzil Way\, Oxford\, Oxfordshire\, OX4 1YH\, United Kingdom
CATEGORIES:Learning,ORC Courses
ORGANIZER;CN="Oxfordshire Recovery College":MAILTO:contactorc@restore.org.uk
END:VEVENT
BEGIN:VEVENT
DTSTART;TZID=Europe/London:20250520T103000
DTEND;TZID=Europe/London:20250520T120000
DTSTAMP:20260421T105349
CREATED:20250331T140000Z
LAST-MODIFIED:20250327T185830Z
UID:10000442-1747737000-1747742400@restore.org.uk
SUMMARY:Healthy Sleep (Part 2)
DESCRIPTION:This course explores what healthy sleep is and offers some positive tips for improving sleep.  In Part 2 \, we look in more depth at how sleep affects our mental health and share further strategies to try out\, as well as  signposting ideas 
URL:https://restore.org.uk/events/healthy-sleep-part-2-5/
LOCATION:Location: Online
CATEGORIES:Learning,ORC Courses
ORGANIZER;CN="Oxfordshire Recovery College":MAILTO:contactorc@restore.org.uk
END:VEVENT
END:VCALENDAR